BEGIN:VCALENDAR
VERSION:2.0
PRODID:-//Autism Toolkit of Georgia - ECPv6.15.20//NONSGML v1.0//EN
CALSCALE:GREGORIAN
METHOD:PUBLISH
X-WR-CALNAME:Autism Toolkit of Georgia
X-ORIGINAL-URL:https://www.autismtoolkit.org
X-WR-CALDESC:Events for Autism Toolkit of Georgia
REFRESH-INTERVAL;VALUE=DURATION:PT1H
X-Robots-Tag:noindex
X-PUBLISHED-TTL:PT1H
BEGIN:VTIMEZONE
TZID:America/New_York
BEGIN:DAYLIGHT
TZOFFSETFROM:-0500
TZOFFSETTO:-0400
TZNAME:EDT
DTSTART:20240310T070000
END:DAYLIGHT
BEGIN:STANDARD
TZOFFSETFROM:-0400
TZOFFSETTO:-0500
TZNAME:EST
DTSTART:20241103T060000
END:STANDARD
BEGIN:DAYLIGHT
TZOFFSETFROM:-0500
TZOFFSETTO:-0400
TZNAME:EDT
DTSTART:20250309T070000
END:DAYLIGHT
BEGIN:STANDARD
TZOFFSETFROM:-0400
TZOFFSETTO:-0500
TZNAME:EST
DTSTART:20251102T060000
END:STANDARD
BEGIN:DAYLIGHT
TZOFFSETFROM:-0500
TZOFFSETTO:-0400
TZNAME:EDT
DTSTART:20260308T070000
END:DAYLIGHT
BEGIN:STANDARD
TZOFFSETFROM:-0400
TZOFFSETTO:-0500
TZNAME:EST
DTSTART:20261101T060000
END:STANDARD
END:VTIMEZONE
BEGIN:VEVENT
DTSTART;TZID=America/New_York:20250902T100000
DTEND;TZID=America/New_York:20250902T180000
DTSTAMP:20260421T113115
CREATED:20250822T163620Z
LAST-MODIFIED:20250822T163634Z
UID:7668-1756807200-1756836000@www.autismtoolkit.org
SUMMARY:Sharkey's Cuts for Kids
DESCRIPTION:
URL:https://www.autismtoolkit.org/event/sharkys-cuts-for-kids/2025-09-02/
LOCATION:Sharky’s Cuts for Kids\, 1600 Kennesaw Due West Rd NW\, Kennesaw\, GA\, 30152
CATEGORIES:Region 4
ATTACH;FMTTYPE=image/jpeg:https://www.autismtoolkit.org/wp-content/uploads/2025/08/527594209_122238617276217653_5493590820892020928_n.jpg
END:VEVENT
BEGIN:VEVENT
DTSTART;TZID=America/New_York:20250903T093000
DTEND;TZID=America/New_York:20250903T110000
DTSTAMP:20260421T113115
CREATED:20250822T193028Z
LAST-MODIFIED:20250822T193028Z
UID:7695-1756891800-1756897200@www.autismtoolkit.org
SUMMARY:Woodstock Share Group
DESCRIPTION:
URL:https://www.autismtoolkit.org/event/woodstock-share-group-3/
LOCATION:Truett’s Chick-fil-A Woodstock\, 9728 Highway 92\, Woodstock\, Georgia\, 30188
CATEGORIES:Region 4
ATTACH;FMTTYPE=image/png:https://www.autismtoolkit.org/wp-content/uploads/2025/07/Screenshot-2025-07-02-151327.png
ORGANIZER;CN="Families of Children Under Stress (FOCUS)":MAILTO:inquiry@focus-ga.org
END:VEVENT
BEGIN:VEVENT
DTSTART;TZID=America/New_York:20250903T100000
DTEND;TZID=America/New_York:20250903T113000
DTSTAMP:20260421T113115
CREATED:20250822T193351Z
LAST-MODIFIED:20250822T193351Z
UID:7696-1756893600-1756899000@www.autismtoolkit.org
SUMMARY:Buford Share Group
DESCRIPTION:
URL:https://www.autismtoolkit.org/event/buford-share-group/
LOCATION:Brightside Cafe Buford\, 554 W Main St\, Building G\, Buford\, Georgia\, 30518
CATEGORIES:Region 4
ATTACH;FMTTYPE=image/png:https://www.autismtoolkit.org/wp-content/uploads/2025/07/Screenshot-2025-07-02-151327.png
ORGANIZER;CN="Families of Children Under Stress (FOCUS)":MAILTO:inquiry@focus-ga.org
END:VEVENT
BEGIN:VEVENT
DTSTART;TZID=America/New_York:20250904T180000
DTEND;TZID=America/New_York:20250904T200000
DTSTAMP:20260421T113115
CREATED:20250822T203758Z
LAST-MODIFIED:20250822T203758Z
UID:7735-1757008800-1757016000@www.autismtoolkit.org
SUMMARY:I Can Do That!
DESCRIPTION:
URL:https://www.autismtoolkit.org/event/i-can-do-that/
LOCATION:Ike Owings Community Center\, 8830 Gurlry Rd\, Douglasville\, GA\, 30134\, United States
CATEGORIES:Region 4
ATTACH;FMTTYPE=image/png:https://www.autismtoolkit.org/wp-content/uploads/2025/05/16.png
ORGANIZER;CN="Parent to Parent of Georgia":MAILTO:https://www.p2pga.org/contact-us
END:VEVENT
BEGIN:VEVENT
DTSTART;TZID=America/New_York:20250904T183000
DTEND;TZID=America/New_York:20250904T200000
DTSTAMP:20260421T113115
CREATED:20250825T142712Z
LAST-MODIFIED:20250825T142712Z
UID:7746-1757010600-1757016000@www.autismtoolkit.org
SUMMARY:Parent Support Group - Parents of Children
DESCRIPTION:
URL:https://www.autismtoolkit.org/event/parent-support-group-parents-of-children/2025-09-04/
LOCATION:Spectrum Autism Support Center\, 2997 Main St\, Duluth\, GA\, 30096\, United States
CATEGORIES:Region 4
ATTACH;FMTTYPE=image/jpeg:https://www.autismtoolkit.org/wp-content/uploads/2025/08/monthly-meeting-sept-04-768x995-1.jpg
END:VEVENT
BEGIN:VEVENT
DTSTART;TZID=America/New_York:20250905T110000
DTEND;TZID=America/New_York:20250905T133000
DTSTAMP:20260421T113115
CREATED:20250825T144915Z
LAST-MODIFIED:20250825T144915Z
UID:7779-1757070000-1757079000@www.autismtoolkit.org
SUMMARY:Spectrum's Friday Homeschool Social Club
DESCRIPTION:
URL:https://www.autismtoolkit.org/event/spectrums-friday-homeschool-social-club/2025-09-05/
LOCATION:Spectrum Autism Support Center\, 2997 Main St\, Duluth\, GA\, 30096\, United States
CATEGORIES:Region 4
ATTACH;FMTTYPE=image/jpeg:https://www.autismtoolkit.org/wp-content/uploads/2025/08/NELP-social-club-fall-winter-2025-768x995-1.jpg
END:VEVENT
BEGIN:VEVENT
DTSTART;TZID=America/New_York:20250905T173000
DTEND;TZID=America/New_York:20250905T183000
DTSTAMP:20260421T113115
CREATED:20250822T193613Z
LAST-MODIFIED:20250822T193707Z
UID:7697-1757093400-1757097000@www.autismtoolkit.org
SUMMARY:FAST Fins Mtn. View
DESCRIPTION:
URL:https://www.autismtoolkit.org/event/fast-fins-mtn-view/2025-09-05/
LOCATION:Mountain View Aquatic Center\, 2650 Gordy Parkway\, Marietta\, GA
CATEGORIES:Region 4
ATTACH;FMTTYPE=image/png:https://www.autismtoolkit.org/wp-content/uploads/2025/07/Screenshot-2025-07-02-151327.png
ORGANIZER;CN="Families of Children Under Stress (FOCUS)":MAILTO:inquiry@focus-ga.org
END:VEVENT
BEGIN:VEVENT
DTSTART;TZID=America/New_York:20250906T080000
DTEND;TZID=America/New_York:20250906T100000
DTSTAMP:20260421T113115
CREATED:20250826T210913Z
LAST-MODIFIED:20250826T210913Z
UID:7837-1757145600-1757152800@www.autismtoolkit.org
SUMMARY:Big Air (Sensory Friendly Play Time at Get Air Trampoline Parks)
DESCRIPTION:
URL:https://www.autismtoolkit.org/event/big-air-sensory-friendly-play-time-at-get-air-trampoline-parks/2025-09-06/
LOCATION:Get Air Trampoline Park – Stone Mountain\, 2075 W Park Pl. Blvd\, Stone Mountain\, GA\, 30087
CATEGORIES:Region 4
ATTACH;FMTTYPE=image/jpeg:https://www.autismtoolkit.org/wp-content/uploads/2025/08/536016679_1360672019395074_7570243537655768013_n.jpg
ORGANIZER;CN="May Behavioral Services":MAILTO:https://www.maybehavioralservices.com/?fbclid=IwY2xjawMa_71leHRuA2FlbQIxMABicmlkETFoRk5WbXJCZFNUdjdrcXIwAR5h2GWfWPSvCy91qzyH7wR-S8INYyGJS3fiTbx0g_GZsOavldZFlUzgRfxuGg_aem_4vZTYxPvwrZbMuLTRmAWtA
END:VEVENT
BEGIN:VEVENT
DTSTART;TZID=America/New_York:20250906T160000
DTEND;TZID=America/New_York:20250906T180000
DTSTAMP:20260421T113115
CREATED:20250825T141833Z
LAST-MODIFIED:20250825T145958Z
UID:7740-1757174400-1757181600@www.autismtoolkit.org
SUMMARY:Teen Saturday Social Club
DESCRIPTION:
URL:https://www.autismtoolkit.org/event/teen-saturday-social-club/2025-09-06/
LOCATION:Spectrum Autism Support Center\, 2997 Main St\, Duluth\, GA\, 30096\, United States
CATEGORIES:Region 4
ATTACH;FMTTYPE=image/jpeg:https://www.autismtoolkit.org/wp-content/uploads/2025/08/teen-saturday-social-club-fall-2025.jpg
END:VEVENT
BEGIN:VEVENT
DTSTART;TZID=America/New_York:20250907T090000
DTEND;TZID=America/New_York:20250907T110000
DTSTAMP:20260421T113115
CREATED:20250826T210649Z
LAST-MODIFIED:20250826T210649Z
UID:7833-1757235600-1757242800@www.autismtoolkit.org
SUMMARY:Sensory Play Time
DESCRIPTION:
URL:https://www.autismtoolkit.org/event/sensory-play-time/
LOCATION:Children’s Museum of Atlanta\, 275 Centennial Olympic Park Dr NW\, Atlanta\, GA\, 30313
CATEGORIES:Region 4
ATTACH;FMTTYPE=image/jpeg:https://www.autismtoolkit.org/wp-content/uploads/2025/08/536016679_1360672019395074_7570243537655768013_n.jpg
ORGANIZER;CN="May Behavioral Services":MAILTO:https://www.maybehavioralservices.com/?fbclid=IwY2xjawMa_71leHRuA2FlbQIxMABicmlkETFoRk5WbXJCZFNUdjdrcXIwAR5h2GWfWPSvCy91qzyH7wR-S8INYyGJS3fiTbx0g_GZsOavldZFlUzgRfxuGg_aem_4vZTYxPvwrZbMuLTRmAWtA
END:VEVENT
BEGIN:VEVENT
DTSTART;TZID=America/New_York:20250907T140000
DTEND;TZID=America/New_York:20250907T150000
DTSTAMP:20260421T113115
CREATED:20250822T192419Z
LAST-MODIFIED:20250822T192419Z
UID:7680-1757253600-1757257200@www.autismtoolkit.org
SUMMARY:FAST Fins Kedron
DESCRIPTION:
URL:https://www.autismtoolkit.org/event/fast-fins-kedron/2025-09-07/
LOCATION:Kedron Fieldhouse and Aquatic Center\, 202 Fieldhouse Drive\, Peachtree City\, GA\, 30269
CATEGORIES:Region 4
ATTACH;FMTTYPE=image/png:https://www.autismtoolkit.org/wp-content/uploads/2025/07/Screenshot-2025-07-02-151327.png
ORGANIZER;CN="Families of Children Under Stress (FOCUS)":MAILTO:inquiry@focus-ga.org
END:VEVENT
BEGIN:VEVENT
DTSTART;TZID=America/New_York:20250907T143000
DTEND;TZID=America/New_York:20250907T153000
DTSTAMP:20260421T113115
CREATED:20250822T192623Z
LAST-MODIFIED:20250822T192623Z
UID:7685-1757255400-1757259000@www.autismtoolkit.org
SUMMARY:FAST Fins Chastain
DESCRIPTION:
URL:https://www.autismtoolkit.org/event/fast-fins-chastain/2025-09-07/
LOCATION:Chastain Park Pool\, 235 W Wieuca Rd NW\, Atlanta\, GA\, 30327
CATEGORIES:Region 4
ATTACH;FMTTYPE=image/png:https://www.autismtoolkit.org/wp-content/uploads/2025/07/Screenshot-2025-07-02-151327.png
ORGANIZER;CN="Families of Children Under Stress (FOCUS)":MAILTO:inquiry@focus-ga.org
END:VEVENT
BEGIN:VEVENT
DTSTART;TZID=America/New_York:20250907T173000
DTEND;TZID=America/New_York:20250907T183000
DTSTAMP:20260421T113115
CREATED:20250822T192911Z
LAST-MODIFIED:20250822T192911Z
UID:7691-1757266200-1757269800@www.autismtoolkit.org
SUMMARY:FAST Fins Swim Atlanta Roswell
DESCRIPTION:
URL:https://www.autismtoolkit.org/event/fast-fins-swim-atlanta-roswell/2025-09-07/
LOCATION:Swim Atlanta Roswell\, 795 Old Roswell Road\, Roswell\, GA
CATEGORIES:Region 4
ATTACH;FMTTYPE=image/png:https://www.autismtoolkit.org/wp-content/uploads/2025/07/Screenshot-2025-07-02-151327.png
ORGANIZER;CN="Families of Children Under Stress (FOCUS)":MAILTO:inquiry@focus-ga.org
END:VEVENT
BEGIN:VEVENT
DTSTART;TZID=America/New_York:20250909T100000
DTEND;TZID=America/New_York:20250909T180000
DTSTAMP:20260421T113115
CREATED:20250822T163620Z
LAST-MODIFIED:20250822T163634Z
UID:7669-1757412000-1757440800@www.autismtoolkit.org
SUMMARY:Sharkey's Cuts for Kids
DESCRIPTION:
URL:https://www.autismtoolkit.org/event/sharkys-cuts-for-kids/2025-09-09/
LOCATION:Sharky’s Cuts for Kids\, 1600 Kennesaw Due West Rd NW\, Kennesaw\, GA\, 30152
CATEGORIES:Region 4
ATTACH;FMTTYPE=image/jpeg:https://www.autismtoolkit.org/wp-content/uploads/2025/08/527594209_122238617276217653_5493590820892020928_n.jpg
END:VEVENT
BEGIN:VEVENT
DTSTART;TZID=America/New_York:20250909T110000
DTEND;TZID=America/New_York:20250909T133000
DTSTAMP:20260421T113115
CREATED:20250825T144540Z
LAST-MODIFIED:20250825T144650Z
UID:7765-1757415600-1757424600@www.autismtoolkit.org
SUMMARY:Enrichment for Homeschoolers
DESCRIPTION:
URL:https://www.autismtoolkit.org/event/enrichment-for-homeschoolers/2025-09-09/
LOCATION:Spectrum Autism Support Center\, 2997 Main St\, Duluth\, GA\, 30096\, United States
CATEGORIES:Region 4
ATTACH;FMTTYPE=image/jpeg:https://www.autismtoolkit.org/wp-content/uploads/2025/08/NLEP-enrichment-days-fall-winter-2025-768x995-1.jpg
END:VEVENT
BEGIN:VEVENT
DTSTART;TZID=America/New_York:20250911T080000
DTEND;TZID=America/New_York:20250911T170000
DTSTAMP:20260421T113115
CREATED:20250825T142122Z
LAST-MODIFIED:20250825T142153Z
UID:7743-1757577600-1757610000@www.autismtoolkit.org
SUMMARY:Autistic Adults Social Groups
DESCRIPTION:
URL:https://www.autismtoolkit.org/event/autistic-adults-social-groups-3/2025-09-11/
LOCATION:Spectrum Autism Support Center\, 2997 Main St\, Duluth\, GA\, 30096\, United States
CATEGORIES:Region 4
ATTACH;FMTTYPE=image/png:https://www.autismtoolkit.org/wp-content/uploads/2025/05/11-1.png
END:VEVENT
BEGIN:VEVENT
DTSTART;TZID=America/New_York:20250911T183000
DTEND;TZID=America/New_York:20250911T200000
DTSTAMP:20260421T113115
CREATED:20250502T161725Z
LAST-MODIFIED:20250502T161725Z
UID:6923-1757615400-1757620800@www.autismtoolkit.org
SUMMARY:Parent Support Group
DESCRIPTION:
URL:https://www.autismtoolkit.org/event/parent-support-group/2025-09-11/
LOCATION:Spectrum Autism Support Center\, 2997 Main St\, Duluth\, GA\, 30096\, United States
CATEGORIES:Region 4
ATTACH;FMTTYPE=image/jpeg:https://www.autismtoolkit.org/wp-content/uploads/2025/05/parents-of-adults-may.jpg
END:VEVENT
BEGIN:VEVENT
DTSTART;TZID=America/New_York:20250911T183000
DTEND;TZID=America/New_York:20250911T200000
DTSTAMP:20260421T113115
CREATED:20250523T192620Z
LAST-MODIFIED:20250523T192620Z
UID:7160-1757615400-1757620800@www.autismtoolkit.org
SUMMARY:Autistic Adults Social Groups
DESCRIPTION:
URL:https://www.autismtoolkit.org/event/autistic-adults-social-groups/2025-09-11/
LOCATION:Spectrum Autism Support Center\, 2997 Main St\, Duluth\, GA\, 30096\, United States
CATEGORIES:Region 4
ATTACH;FMTTYPE=image/png:https://www.autismtoolkit.org/wp-content/uploads/2025/05/11-1.png
END:VEVENT
BEGIN:VEVENT
DTSTART;TZID=America/New_York:20250911T183000
DTEND;TZID=America/New_York:20250911T200000
DTSTAMP:20260421T113115
CREATED:20250825T142952Z
LAST-MODIFIED:20250825T142952Z
UID:7756-1757615400-1757620800@www.autismtoolkit.org
SUMMARY:Parent Support Group - Adults on the Spectrum
DESCRIPTION:
URL:https://www.autismtoolkit.org/event/parent-support-group-adults-on-the-spectrum/2025-09-11/
LOCATION:Spectrum Autism Support Center\, 2997 Main St\, Duluth\, GA\, 30096\, United States
CATEGORIES:Region 4
ATTACH;FMTTYPE=image/png:https://www.autismtoolkit.org/wp-content/uploads/2025/05/11-1.png
END:VEVENT
BEGIN:VEVENT
DTSTART;TZID=America/New_York:20250912T110000
DTEND;TZID=America/New_York:20250912T133000
DTSTAMP:20260421T113115
CREATED:20250825T144915Z
LAST-MODIFIED:20250825T144915Z
UID:7781-1757674800-1757683800@www.autismtoolkit.org
SUMMARY:Spectrum's Friday Homeschool Social Club
DESCRIPTION:
URL:https://www.autismtoolkit.org/event/spectrums-friday-homeschool-social-club/2025-09-12/
LOCATION:Spectrum Autism Support Center\, 2997 Main St\, Duluth\, GA\, 30096\, United States
CATEGORIES:Region 4
ATTACH;FMTTYPE=image/jpeg:https://www.autismtoolkit.org/wp-content/uploads/2025/08/NELP-social-club-fall-winter-2025-768x995-1.jpg
END:VEVENT
BEGIN:VEVENT
DTSTART;TZID=America/New_York:20250912T173000
DTEND;TZID=America/New_York:20250912T183000
DTSTAMP:20260421T113115
CREATED:20250822T193613Z
LAST-MODIFIED:20250822T193613Z
UID:7698-1757698200-1757701800@www.autismtoolkit.org
SUMMARY:FAST Fins Mtn. View
DESCRIPTION:
URL:https://www.autismtoolkit.org/event/fast-fins-mtn-view/2025-09-12/
LOCATION:Mountain View Aquatic Center\, 2650 Gordy Parkway\, Marietta\, GA
CATEGORIES:Region 4
ATTACH;FMTTYPE=image/png:https://www.autismtoolkit.org/wp-content/uploads/2025/07/Screenshot-2025-07-02-151327.png
ORGANIZER;CN="Families of Children Under Stress (FOCUS)":MAILTO:inquiry@focus-ga.org
END:VEVENT
BEGIN:VEVENT
DTSTART;TZID=America/New_York:20250913T093000
DTEND;TZID=America/New_York:20250913T130000
DTSTAMP:20260421T113115
CREATED:20250822T194255Z
LAST-MODIFIED:20250822T194255Z
UID:7703-1757755800-1757768400@www.autismtoolkit.org
SUMMARY:FOCUS on Moms
DESCRIPTION:
URL:https://www.autismtoolkit.org/event/focus-on-moms/
LOCATION:Alpharetta Presbyterian Church\, 180 Academy Street\, Alpharetta\, GA\, 30009\, United States
CATEGORIES:Region 4
ATTACH;FMTTYPE=image/jpeg:https://www.autismtoolkit.org/wp-content/uploads/2025/08/FOCUS-on-Moms-2025-300x300-1.jpg
ORGANIZER;CN="Families of Children Under Stress (FOCUS)":MAILTO:inquiry@focus-ga.org
END:VEVENT
BEGIN:VEVENT
DTSTART;TZID=America/New_York:20250913T093000
DTEND;TZID=America/New_York:20250913T133000
DTSTAMP:20260421T113115
CREATED:20250822T194046Z
LAST-MODIFIED:20250822T195215Z
UID:7702-1757755800-1757770200@www.autismtoolkit.org
SUMMARY:Extra Special Saturday Respite
DESCRIPTION:
URL:https://www.autismtoolkit.org/event/extra-special-saturday-respite-4/2025-09-13/
LOCATION:Alpharetta Presbyterian Church\, 180 Academy Street\, Alpharetta\, GA\, 30009\, United States
CATEGORIES:Region 4
ATTACH;FMTTYPE=image/png:https://www.autismtoolkit.org/wp-content/uploads/2025/07/Screenshot-2025-07-02-151327.png
ORGANIZER;CN="Families of Children Under Stress (FOCUS)":MAILTO:inquiry@focus-ga.org
END:VEVENT
BEGIN:VEVENT
DTSTART;TZID=America/New_York:20250913T094500
DTEND;TZID=America/New_York:20250913T104500
DTSTAMP:20260421T113115
CREATED:20250822T201918Z
LAST-MODIFIED:20250822T201918Z
UID:7723-1757756700-1757760300@www.autismtoolkit.org
SUMMARY:Raft down the Chattahoochee River with Lekotek
DESCRIPTION:
URL:https://www.autismtoolkit.org/event/raft-down-the-chattahoochee-river-with-lekotek/
LOCATION:Garrard Landing Park\, 8000 Holcomb Bridge Rd\, Alpharetta\, GA\, 30022
CATEGORIES:Region 4
ATTACH;FMTTYPE=image/png:https://www.autismtoolkit.org/wp-content/uploads/2025/08/13.png
ORGANIZER;CN="Lekotek of Georgia":MAILTO:info@lekotekga.org
END:VEVENT
BEGIN:VEVENT
DTSTART;TZID=America/New_York:20250913T160000
DTEND;TZID=America/New_York:20250913T180000
DTSTAMP:20260421T113115
CREATED:20250825T141833Z
LAST-MODIFIED:20250825T141833Z
UID:7804-1757779200-1757786400@www.autismtoolkit.org
SUMMARY:Teen Saturday Social Club
DESCRIPTION:
URL:https://www.autismtoolkit.org/event/teen-saturday-social-club/2025-09-13/
LOCATION:Spectrum Autism Support Center\, 2997 Main St\, Duluth\, GA\, 30096\, United States
CATEGORIES:Region 4
ATTACH;FMTTYPE=image/jpeg:https://www.autismtoolkit.org/wp-content/uploads/2025/08/teen-saturday-social-club-fall-2025.jpg
END:VEVENT
BEGIN:VEVENT
DTSTART;TZID=America/New_York:20250914T140000
DTEND;TZID=America/New_York:20250914T150000
DTSTAMP:20260421T113115
CREATED:20250822T192419Z
LAST-MODIFIED:20250822T192419Z
UID:7681-1757858400-1757862000@www.autismtoolkit.org
SUMMARY:FAST Fins Kedron
DESCRIPTION:
URL:https://www.autismtoolkit.org/event/fast-fins-kedron/2025-09-14/
LOCATION:Kedron Fieldhouse and Aquatic Center\, 202 Fieldhouse Drive\, Peachtree City\, GA\, 30269
CATEGORIES:Region 4
ATTACH;FMTTYPE=image/png:https://www.autismtoolkit.org/wp-content/uploads/2025/07/Screenshot-2025-07-02-151327.png
ORGANIZER;CN="Families of Children Under Stress (FOCUS)":MAILTO:inquiry@focus-ga.org
END:VEVENT
BEGIN:VEVENT
DTSTART;TZID=America/New_York:20250914T143000
DTEND;TZID=America/New_York:20250914T153000
DTSTAMP:20260421T113115
CREATED:20250822T192623Z
LAST-MODIFIED:20250822T192623Z
UID:7686-1757860200-1757863800@www.autismtoolkit.org
SUMMARY:FAST Fins Chastain
DESCRIPTION:
URL:https://www.autismtoolkit.org/event/fast-fins-chastain/2025-09-14/
LOCATION:Chastain Park Pool\, 235 W Wieuca Rd NW\, Atlanta\, GA\, 30327
CATEGORIES:Region 4
ATTACH;FMTTYPE=image/png:https://www.autismtoolkit.org/wp-content/uploads/2025/07/Screenshot-2025-07-02-151327.png
ORGANIZER;CN="Families of Children Under Stress (FOCUS)":MAILTO:inquiry@focus-ga.org
END:VEVENT
BEGIN:VEVENT
DTSTART;TZID=America/New_York:20250914T173000
DTEND;TZID=America/New_York:20250914T183000
DTSTAMP:20260421T113115
CREATED:20250822T192911Z
LAST-MODIFIED:20250822T192911Z
UID:7692-1757871000-1757874600@www.autismtoolkit.org
SUMMARY:FAST Fins Swim Atlanta Roswell
DESCRIPTION:
URL:https://www.autismtoolkit.org/event/fast-fins-swim-atlanta-roswell/2025-09-14/
LOCATION:Swim Atlanta Roswell\, 795 Old Roswell Road\, Roswell\, GA
CATEGORIES:Region 4
ATTACH;FMTTYPE=image/png:https://www.autismtoolkit.org/wp-content/uploads/2025/07/Screenshot-2025-07-02-151327.png
ORGANIZER;CN="Families of Children Under Stress (FOCUS)":MAILTO:inquiry@focus-ga.org
END:VEVENT
BEGIN:VEVENT
DTSTART;TZID=America/New_York:20250916T100000
DTEND;TZID=America/New_York:20250916T180000
DTSTAMP:20260421T113115
CREATED:20250822T163620Z
LAST-MODIFIED:20250822T163635Z
UID:7670-1758016800-1758045600@www.autismtoolkit.org
SUMMARY:Sharkey's Cuts for Kids
DESCRIPTION:
URL:https://www.autismtoolkit.org/event/sharkys-cuts-for-kids/2025-09-16/
LOCATION:Sharky’s Cuts for Kids\, 1600 Kennesaw Due West Rd NW\, Kennesaw\, GA\, 30152
CATEGORIES:Region 4
ATTACH;FMTTYPE=image/jpeg:https://www.autismtoolkit.org/wp-content/uploads/2025/08/527594209_122238617276217653_5493590820892020928_n.jpg
END:VEVENT
BEGIN:VEVENT
DTSTART;TZID=America/New_York:20250916T110000
DTEND;TZID=America/New_York:20250916T133000
DTSTAMP:20260421T113116
CREATED:20250825T144540Z
LAST-MODIFIED:20250825T144650Z
UID:7767-1758020400-1758029400@www.autismtoolkit.org
SUMMARY:Enrichment for Homeschoolers
DESCRIPTION:
URL:https://www.autismtoolkit.org/event/enrichment-for-homeschoolers/2025-09-16/
LOCATION:Spectrum Autism Support Center\, 2997 Main St\, Duluth\, GA\, 30096\, United States
CATEGORIES:Region 4
ATTACH;FMTTYPE=image/jpeg:https://www.autismtoolkit.org/wp-content/uploads/2025/08/NLEP-enrichment-days-fall-winter-2025-768x995-1.jpg
END:VEVENT
END:VCALENDAR