BEGIN:VCALENDAR
VERSION:2.0
PRODID:-//Autism Toolkit of Georgia - ECPv6.15.20//NONSGML v1.0//EN
CALSCALE:GREGORIAN
METHOD:PUBLISH
X-WR-CALNAME:Autism Toolkit of Georgia
X-ORIGINAL-URL:https://www.autismtoolkit.org
X-WR-CALDESC:Events for Autism Toolkit of Georgia
REFRESH-INTERVAL;VALUE=DURATION:PT1H
X-Robots-Tag:noindex
X-PUBLISHED-TTL:PT1H
BEGIN:VTIMEZONE
TZID:America/New_York
BEGIN:DAYLIGHT
TZOFFSETFROM:-0500
TZOFFSETTO:-0400
TZNAME:EDT
DTSTART:20240310T070000
END:DAYLIGHT
BEGIN:STANDARD
TZOFFSETFROM:-0400
TZOFFSETTO:-0500
TZNAME:EST
DTSTART:20241103T060000
END:STANDARD
BEGIN:DAYLIGHT
TZOFFSETFROM:-0500
TZOFFSETTO:-0400
TZNAME:EDT
DTSTART:20250309T070000
END:DAYLIGHT
BEGIN:STANDARD
TZOFFSETFROM:-0400
TZOFFSETTO:-0500
TZNAME:EST
DTSTART:20251102T060000
END:STANDARD
BEGIN:DAYLIGHT
TZOFFSETFROM:-0500
TZOFFSETTO:-0400
TZNAME:EDT
DTSTART:20260308T070000
END:DAYLIGHT
BEGIN:STANDARD
TZOFFSETFROM:-0400
TZOFFSETTO:-0500
TZNAME:EST
DTSTART:20261101T060000
END:STANDARD
END:VTIMEZONE
BEGIN:VEVENT
DTSTART;TZID=America/New_York:20251002T183000
DTEND;TZID=America/New_York:20251002T200000
DTSTAMP:20260423T072352
CREATED:20250825T142712Z
LAST-MODIFIED:20250825T142712Z
UID:7748-1759429800-1759435200@www.autismtoolkit.org
SUMMARY:Parent Support Group - Parents of Children
DESCRIPTION:
URL:https://www.autismtoolkit.org/event/parent-support-group-parents-of-children/2025-10-02/
LOCATION:Spectrum Autism Support Center\, 2997 Main St\, Duluth\, GA\, 30096\, United States
CATEGORIES:Region 4
ATTACH;FMTTYPE=image/jpeg:https://www.autismtoolkit.org/wp-content/uploads/2025/08/monthly-meeting-sept-04-768x995-1.jpg
END:VEVENT
BEGIN:VEVENT
DTSTART;VALUE=DATE:20251003
DTEND;VALUE=DATE:20251004
DTSTAMP:20260423T072352
CREATED:20251002T201608Z
LAST-MODIFIED:20251002T201608Z
UID:8003-1759449600-1759535999@www.autismtoolkit.org
SUMMARY:Fodac Golf Classic
DESCRIPTION:
URL:https://www.autismtoolkit.org/event/fodac-golf-classic/
LOCATION:Stone Mountain Golf Club\, 1145 Stonewall Jackson Dr\, Stone Mountain\, Georgia\, 30083
CATEGORIES:Region 4
ATTACH;FMTTYPE=image/png:https://www.autismtoolkit.org/wp-content/uploads/2025/10/Golf-2025-Web-Banner-1-1024x419-1.png
END:VEVENT
BEGIN:VEVENT
DTSTART;TZID=America/New_York:20251003T110000
DTEND;TZID=America/New_York:20251003T133000
DTSTAMP:20260423T072352
CREATED:20250825T144915Z
LAST-MODIFIED:20250825T144915Z
UID:7784-1759489200-1759498200@www.autismtoolkit.org
SUMMARY:Spectrum's Friday Homeschool Social Club
DESCRIPTION:
URL:https://www.autismtoolkit.org/event/spectrums-friday-homeschool-social-club/2025-10-03/
LOCATION:Spectrum Autism Support Center\, 2997 Main St\, Duluth\, GA\, 30096\, United States
CATEGORIES:Region 4
ATTACH;FMTTYPE=image/jpeg:https://www.autismtoolkit.org/wp-content/uploads/2025/08/NELP-social-club-fall-winter-2025-768x995-1.jpg
END:VEVENT
BEGIN:VEVENT
DTSTART;TZID=America/New_York:20251003T173000
DTEND;TZID=America/New_York:20251003T183000
DTSTAMP:20260423T072352
CREATED:20250822T193613Z
LAST-MODIFIED:20250822T193613Z
UID:7701-1759512600-1759516200@www.autismtoolkit.org
SUMMARY:FAST Fins Mtn. View
DESCRIPTION:
URL:https://www.autismtoolkit.org/event/fast-fins-mtn-view/2025-10-03/
LOCATION:Mountain View Aquatic Center\, 2650 Gordy Parkway\, Marietta\, GA
CATEGORIES:Region 4
ATTACH;FMTTYPE=image/png:https://www.autismtoolkit.org/wp-content/uploads/2025/07/Screenshot-2025-07-02-151327.png
ORGANIZER;CN="Families of Children Under Stress (FOCUS)":MAILTO:inquiry@focus-ga.org
END:VEVENT
BEGIN:VEVENT
DTSTART;TZID=America/New_York:20251004T080000
DTEND;TZID=America/New_York:20251004T100000
DTSTAMP:20260423T072352
CREATED:20250826T210913Z
LAST-MODIFIED:20250826T210913Z
UID:7838-1759564800-1759572000@www.autismtoolkit.org
SUMMARY:Big Air (Sensory Friendly Play Time at Get Air Trampoline Parks)
DESCRIPTION:
URL:https://www.autismtoolkit.org/event/big-air-sensory-friendly-play-time-at-get-air-trampoline-parks/2025-10-04/
LOCATION:Get Air Trampoline Park – Stone Mountain\, 2075 W Park Pl. Blvd\, Stone Mountain\, GA\, 30087
CATEGORIES:Region 4
ATTACH;FMTTYPE=image/jpeg:https://www.autismtoolkit.org/wp-content/uploads/2025/08/536016679_1360672019395074_7570243537655768013_n.jpg
ORGANIZER;CN="May Behavioral Services":MAILTO:https://www.maybehavioralservices.com/?fbclid=IwY2xjawMa_71leHRuA2FlbQIxMABicmlkETFoRk5WbXJCZFNUdjdrcXIwAR5h2GWfWPSvCy91qzyH7wR-S8INYyGJS3fiTbx0g_GZsOavldZFlUzgRfxuGg_aem_4vZTYxPvwrZbMuLTRmAWtA
END:VEVENT
BEGIN:VEVENT
DTSTART;TZID=America/New_York:20251004T090000
DTEND;TZID=America/New_York:20251004T110000
DTSTAMP:20260423T072352
CREATED:20251002T195242Z
LAST-MODIFIED:20251002T195242Z
UID:7990-1759568400-1759575600@www.autismtoolkit.org
SUMMARY:Atlanta Botanical Gardens Family Activty
DESCRIPTION:
URL:https://www.autismtoolkit.org/event/atlanta-botanical-gardens-family-activty/
LOCATION:Atlanta Botanical Gardens\, 1345 Piedmont Ave NE\, Atlanta\, GA
CATEGORIES:Region 4
ATTACH;FMTTYPE=image/png:https://www.autismtoolkit.org/wp-content/uploads/2025/07/Screenshot-2025-07-02-151327.png
ORGANIZER;CN="Families of Children Under Stress (FOCUS)":MAILTO:inquiry@focus-ga.org
END:VEVENT
BEGIN:VEVENT
DTSTART;TZID=America/New_York:20251004T160000
DTEND;TZID=America/New_York:20251004T180000
DTSTAMP:20260423T072352
CREATED:20251003T135746Z
LAST-MODIFIED:20251003T135746Z
UID:8032-1759593600-1759600800@www.autismtoolkit.org
SUMMARY:Session Information Teen Saturday Social Club - October & November 2025
DESCRIPTION:
URL:https://www.autismtoolkit.org/event/session-information-teen-saturday-social-club-october-november-2025/2025-10-04/
LOCATION:Spectrum Autism Support Center\, 2997 Main St\, Duluth\, GA\, 30096\, United States
CATEGORIES:Region 4
ATTACH;FMTTYPE=image/png:https://www.autismtoolkit.org/wp-content/uploads/2025/10/Screenshot-2025-10-03-095701.png
END:VEVENT
BEGIN:VEVENT
DTSTART;TZID=America/New_York:20251007T110000
DTEND;TZID=America/New_York:20251007T133000
DTSTAMP:20260423T072352
CREATED:20250825T144540Z
LAST-MODIFIED:20250825T144652Z
UID:7770-1759834800-1759843800@www.autismtoolkit.org
SUMMARY:Enrichment for Homeschoolers
DESCRIPTION:
URL:https://www.autismtoolkit.org/event/enrichment-for-homeschoolers/2025-10-07/
LOCATION:Spectrum Autism Support Center\, 2997 Main St\, Duluth\, GA\, 30096\, United States
CATEGORIES:Region 4
ATTACH;FMTTYPE=image/jpeg:https://www.autismtoolkit.org/wp-content/uploads/2025/08/NLEP-enrichment-days-fall-winter-2025-768x995-1.jpg
END:VEVENT
BEGIN:VEVENT
DTSTART;TZID=America/New_York:20251007T110000
DTEND;TZID=America/New_York:20251007T133000
DTSTAMP:20260423T072352
CREATED:20251003T140002Z
LAST-MODIFIED:20251003T140002Z
UID:8039-1759834800-1759843800@www.autismtoolkit.org
SUMMARY:October 2025 Homeschool Enrichment Program
DESCRIPTION:
URL:https://www.autismtoolkit.org/event/october-2025-homeschool-enrichment-program/2025-10-07/
LOCATION:Spectrum Autism Support Center\, 2997 Main St\, Duluth\, GA\, 30096\, United States
CATEGORIES:Region 4
ATTACH;FMTTYPE=image/png:https://www.autismtoolkit.org/wp-content/uploads/2025/10/Screenshot-2025-10-03-095701.png
END:VEVENT
BEGIN:VEVENT
DTSTART;TZID=America/New_York:20251009T080000
DTEND;TZID=America/New_York:20251009T170000
DTSTAMP:20260423T072352
CREATED:20250825T142122Z
LAST-MODIFIED:20250825T142154Z
UID:7744-1759996800-1760029200@www.autismtoolkit.org
SUMMARY:Autistic Adults Social Groups
DESCRIPTION:
URL:https://www.autismtoolkit.org/event/autistic-adults-social-groups-3/2025-10-09/
LOCATION:Spectrum Autism Support Center\, 2997 Main St\, Duluth\, GA\, 30096\, United States
CATEGORIES:Region 4
ATTACH;FMTTYPE=image/png:https://www.autismtoolkit.org/wp-content/uploads/2025/05/11-1.png
END:VEVENT
BEGIN:VEVENT
DTSTART;TZID=America/New_York:20251009T183000
DTEND;TZID=America/New_York:20251009T200000
DTSTAMP:20260423T072352
CREATED:20250523T192620Z
LAST-MODIFIED:20250523T192620Z
UID:7161-1760034600-1760040000@www.autismtoolkit.org
SUMMARY:Autistic Adults Social Groups
DESCRIPTION:
URL:https://www.autismtoolkit.org/event/autistic-adults-social-groups/2025-10-09/
LOCATION:Spectrum Autism Support Center\, 2997 Main St\, Duluth\, GA\, 30096\, United States
CATEGORIES:Region 4
ATTACH;FMTTYPE=image/png:https://www.autismtoolkit.org/wp-content/uploads/2025/05/11-1.png
END:VEVENT
BEGIN:VEVENT
DTSTART;TZID=America/New_York:20251009T183000
DTEND;TZID=America/New_York:20251009T200000
DTSTAMP:20260423T072352
CREATED:20250825T142952Z
LAST-MODIFIED:20250825T142952Z
UID:7757-1760034600-1760040000@www.autismtoolkit.org
SUMMARY:Parent Support Group - Adults on the Spectrum
DESCRIPTION:
URL:https://www.autismtoolkit.org/event/parent-support-group-adults-on-the-spectrum/2025-10-09/
LOCATION:Spectrum Autism Support Center\, 2997 Main St\, Duluth\, GA\, 30096\, United States
CATEGORIES:Region 4
ATTACH;FMTTYPE=image/png:https://www.autismtoolkit.org/wp-content/uploads/2025/05/11-1.png
END:VEVENT
BEGIN:VEVENT
DTSTART;TZID=America/New_York:20251010T110000
DTEND;TZID=America/New_York:20251010T133000
DTSTAMP:20260423T072352
CREATED:20250825T144915Z
LAST-MODIFIED:20250825T144915Z
UID:7785-1760094000-1760103000@www.autismtoolkit.org
SUMMARY:Spectrum's Friday Homeschool Social Club
DESCRIPTION:
URL:https://www.autismtoolkit.org/event/spectrums-friday-homeschool-social-club/2025-10-10/
LOCATION:Spectrum Autism Support Center\, 2997 Main St\, Duluth\, GA\, 30096\, United States
CATEGORIES:Region 4
ATTACH;FMTTYPE=image/jpeg:https://www.autismtoolkit.org/wp-content/uploads/2025/08/NELP-social-club-fall-winter-2025-768x995-1.jpg
END:VEVENT
BEGIN:VEVENT
DTSTART;TZID=America/New_York:20251011T113000
DTEND;TZID=America/New_York:20251011T133000
DTSTAMP:20260423T072352
CREATED:20251002T195733Z
LAST-MODIFIED:20251002T195733Z
UID:7992-1760182200-1760189400@www.autismtoolkit.org
SUMMARY:Boo-B-Que
DESCRIPTION:
URL:https://www.autismtoolkit.org/event/boo-b-que-2/
LOCATION:Holy Cross Catholic Church\, 3773 Chamblee Tucker Road\, Atlanta\, GA\, 30341
CATEGORIES:Region 4
ATTACH;FMTTYPE=image/png:https://www.autismtoolkit.org/wp-content/uploads/2025/10/Boo-B-Que-Banner-768x384-1.png
ORGANIZER;CN="Families of Children Under Stress (FOCUS)":MAILTO:inquiry@focus-ga.org
END:VEVENT
BEGIN:VEVENT
DTSTART;TZID=America/New_York:20251011T160000
DTEND;TZID=America/New_York:20251011T180000
DTSTAMP:20260423T072352
CREATED:20251003T135746Z
LAST-MODIFIED:20251003T135746Z
UID:8034-1760198400-1760205600@www.autismtoolkit.org
SUMMARY:Session Information Teen Saturday Social Club - October & November 2025
DESCRIPTION:
URL:https://www.autismtoolkit.org/event/session-information-teen-saturday-social-club-october-november-2025/2025-10-11/
LOCATION:Spectrum Autism Support Center\, 2997 Main St\, Duluth\, GA\, 30096\, United States
CATEGORIES:Region 4
ATTACH;FMTTYPE=image/png:https://www.autismtoolkit.org/wp-content/uploads/2025/10/Screenshot-2025-10-03-095701.png
END:VEVENT
BEGIN:VEVENT
DTSTART;TZID=America/New_York:20251012T120000
DTEND;TZID=America/New_York:20251012T140000
DTSTAMP:20260423T072352
CREATED:20251003T134657Z
LAST-MODIFIED:20251003T134657Z
UID:8026-1760270400-1760277600@www.autismtoolkit.org
SUMMARY:Spectrum Abilities-Get Air Private Session
DESCRIPTION:
URL:https://www.autismtoolkit.org/event/spectrum-abilities-get-air-private-session/
LOCATION:Get Air Trampoline Park – Stone Mountain\, 2075 W Park Pl. Blvd\, Stone Mountain\, GA\, 30087
CATEGORIES:Region 4
ATTACH;FMTTYPE=image/jpeg:https://www.autismtoolkit.org/wp-content/uploads/2025/10/556487402_32218793551045417_2026142115482014404_n.jpg
END:VEVENT
BEGIN:VEVENT
DTSTART;TZID=America/New_York:20251014T110000
DTEND;TZID=America/New_York:20251014T133000
DTSTAMP:20260423T072352
CREATED:20250825T144540Z
LAST-MODIFIED:20250825T144652Z
UID:7771-1760439600-1760448600@www.autismtoolkit.org
SUMMARY:Enrichment for Homeschoolers
DESCRIPTION:
URL:https://www.autismtoolkit.org/event/enrichment-for-homeschoolers/2025-10-14/
LOCATION:Spectrum Autism Support Center\, 2997 Main St\, Duluth\, GA\, 30096\, United States
CATEGORIES:Region 4
ATTACH;FMTTYPE=image/jpeg:https://www.autismtoolkit.org/wp-content/uploads/2025/08/NLEP-enrichment-days-fall-winter-2025-768x995-1.jpg
END:VEVENT
BEGIN:VEVENT
DTSTART;TZID=America/New_York:20251014T110000
DTEND;TZID=America/New_York:20251014T133000
DTSTAMP:20260423T072352
CREATED:20251003T140002Z
LAST-MODIFIED:20251003T140002Z
UID:8040-1760439600-1760448600@www.autismtoolkit.org
SUMMARY:October 2025 Homeschool Enrichment Program
DESCRIPTION:
URL:https://www.autismtoolkit.org/event/october-2025-homeschool-enrichment-program/2025-10-14/
LOCATION:Spectrum Autism Support Center\, 2997 Main St\, Duluth\, GA\, 30096\, United States
CATEGORIES:Region 4
ATTACH;FMTTYPE=image/png:https://www.autismtoolkit.org/wp-content/uploads/2025/10/Screenshot-2025-10-03-095701.png
END:VEVENT
BEGIN:VEVENT
DTSTART;TZID=America/New_York:20251016T183000
DTEND;TZID=America/New_York:20251016T200000
DTSTAMP:20260423T072352
CREATED:20250502T163422Z
LAST-MODIFIED:20250502T163533Z
UID:6960-1760639400-1760644800@www.autismtoolkit.org
SUMMARY:ArtReach for Women Only
DESCRIPTION:
URL:https://www.autismtoolkit.org/event/artreach-for-women-only/2025-10-16/
LOCATION:Hudgens Center for Art and Learning\, 6400 Sugarloaf Parkway Building #300\, Duluth\, GA\, 30097\, United States
CATEGORIES:Region 4
ATTACH;FMTTYPE=image/jpeg:https://www.autismtoolkit.org/wp-content/uploads/2025/05/Spectrum-Artreach-Preview.jpg
END:VEVENT
BEGIN:VEVENT
DTSTART;TZID=America/New_York:20251017T110000
DTEND;TZID=America/New_York:20251017T133000
DTSTAMP:20260423T072352
CREATED:20250825T144915Z
LAST-MODIFIED:20250825T144915Z
UID:7786-1760698800-1760707800@www.autismtoolkit.org
SUMMARY:Spectrum's Friday Homeschool Social Club
DESCRIPTION:
URL:https://www.autismtoolkit.org/event/spectrums-friday-homeschool-social-club/2025-10-17/
LOCATION:Spectrum Autism Support Center\, 2997 Main St\, Duluth\, GA\, 30096\, United States
CATEGORIES:Region 4
ATTACH;FMTTYPE=image/jpeg:https://www.autismtoolkit.org/wp-content/uploads/2025/08/NELP-social-club-fall-winter-2025-768x995-1.jpg
END:VEVENT
BEGIN:VEVENT
DTSTART;TZID=America/New_York:20251018T160000
DTEND;TZID=America/New_York:20251018T180000
DTSTAMP:20260423T072352
CREATED:20251003T135746Z
LAST-MODIFIED:20251003T135746Z
UID:8035-1760803200-1760810400@www.autismtoolkit.org
SUMMARY:Session Information Teen Saturday Social Club - October & November 2025
DESCRIPTION:
URL:https://www.autismtoolkit.org/event/session-information-teen-saturday-social-club-october-november-2025/2025-10-18/
LOCATION:Spectrum Autism Support Center\, 2997 Main St\, Duluth\, GA\, 30096\, United States
CATEGORIES:Region 4
ATTACH;FMTTYPE=image/png:https://www.autismtoolkit.org/wp-content/uploads/2025/10/Screenshot-2025-10-03-095701.png
END:VEVENT
BEGIN:VEVENT
DTSTART;TZID=America/New_York:20251021T110000
DTEND;TZID=America/New_York:20251021T133000
DTSTAMP:20260423T072352
CREATED:20250825T144540Z
LAST-MODIFIED:20250825T144653Z
UID:7772-1761044400-1761053400@www.autismtoolkit.org
SUMMARY:Enrichment for Homeschoolers
DESCRIPTION:
URL:https://www.autismtoolkit.org/event/enrichment-for-homeschoolers/2025-10-21/
LOCATION:Spectrum Autism Support Center\, 2997 Main St\, Duluth\, GA\, 30096\, United States
CATEGORIES:Region 4
ATTACH;FMTTYPE=image/jpeg:https://www.autismtoolkit.org/wp-content/uploads/2025/08/NLEP-enrichment-days-fall-winter-2025-768x995-1.jpg
END:VEVENT
BEGIN:VEVENT
DTSTART;TZID=America/New_York:20251021T110000
DTEND;TZID=America/New_York:20251021T133000
DTSTAMP:20260423T072352
CREATED:20251003T140002Z
LAST-MODIFIED:20251003T140002Z
UID:8041-1761044400-1761053400@www.autismtoolkit.org
SUMMARY:October 2025 Homeschool Enrichment Program
DESCRIPTION:
URL:https://www.autismtoolkit.org/event/october-2025-homeschool-enrichment-program/2025-10-21/
LOCATION:Spectrum Autism Support Center\, 2997 Main St\, Duluth\, GA\, 30096\, United States
CATEGORIES:Region 4
ATTACH;FMTTYPE=image/png:https://www.autismtoolkit.org/wp-content/uploads/2025/10/Screenshot-2025-10-03-095701.png
END:VEVENT
BEGIN:VEVENT
DTSTART;TZID=America/New_York:20251024T110000
DTEND;TZID=America/New_York:20251024T133000
DTSTAMP:20260423T072352
CREATED:20250825T144915Z
LAST-MODIFIED:20250825T144915Z
UID:7787-1761303600-1761312600@www.autismtoolkit.org
SUMMARY:Spectrum's Friday Homeschool Social Club
DESCRIPTION:
URL:https://www.autismtoolkit.org/event/spectrums-friday-homeschool-social-club/2025-10-24/
LOCATION:Spectrum Autism Support Center\, 2997 Main St\, Duluth\, GA\, 30096\, United States
CATEGORIES:Region 4
ATTACH;FMTTYPE=image/jpeg:https://www.autismtoolkit.org/wp-content/uploads/2025/08/NELP-social-club-fall-winter-2025-768x995-1.jpg
END:VEVENT
BEGIN:VEVENT
DTSTART;TZID=America/New_York:20251025T110000
DTEND;TZID=America/New_York:20251025T130000
DTSTAMP:20260423T072352
CREATED:20251003T153317Z
LAST-MODIFIED:20251003T153317Z
UID:8043-1761390000-1761397200@www.autismtoolkit.org
SUMMARY:Spooktacular
DESCRIPTION:
URL:https://www.autismtoolkit.org/event/spooktacular/
LOCATION:Switch Energy Fitness\, 4592 Memorial Dr\, Decatur\, GA\, 30032
CATEGORIES:Region 4
ATTACH;FMTTYPE=image/png:https://www.autismtoolkit.org/wp-content/uploads/2025/10/unnamed.png
END:VEVENT
BEGIN:VEVENT
DTSTART;TZID=America/New_York:20251025T160000
DTEND;TZID=America/New_York:20251025T180000
DTSTAMP:20260423T072352
CREATED:20251003T135746Z
LAST-MODIFIED:20251003T135746Z
UID:8036-1761408000-1761415200@www.autismtoolkit.org
SUMMARY:Session Information Teen Saturday Social Club - October & November 2025
DESCRIPTION:
URL:https://www.autismtoolkit.org/event/session-information-teen-saturday-social-club-october-november-2025/2025-10-25/
LOCATION:Spectrum Autism Support Center\, 2997 Main St\, Duluth\, GA\, 30096\, United States
CATEGORIES:Region 4
ATTACH;FMTTYPE=image/png:https://www.autismtoolkit.org/wp-content/uploads/2025/10/Screenshot-2025-10-03-095701.png
END:VEVENT
BEGIN:VEVENT
DTSTART;TZID=America/New_York:20251025T190000
DTEND;TZID=America/New_York:20251025T210000
DTSTAMP:20260423T072352
CREATED:20251003T153613Z
LAST-MODIFIED:20251003T153613Z
UID:8046-1761418800-1761426000@www.autismtoolkit.org
SUMMARY:Unwind with Shine
DESCRIPTION:
URL:https://www.autismtoolkit.org/event/unwind-with-shine-4/
LOCATION:Vino Venue\, 4478 Chamblee Dunwoody Rd\, Dunwoody\, GA\, 30338
CATEGORIES:Region 4
ATTACH;FMTTYPE=image/png:https://www.autismtoolkit.org/wp-content/uploads/2025/10/2024-Unwind-FB-GM-4.68d9a46f783f33.45849585.png
END:VEVENT
BEGIN:VEVENT
DTSTART;TZID=America/New_York:20251026T130000
DTEND;TZID=America/New_York:20251026T160000
DTSTAMP:20260423T072352
CREATED:20251003T135121Z
LAST-MODIFIED:20251003T135121Z
UID:8029-1761483600-1761494400@www.autismtoolkit.org
SUMMARY:Halloween Dance
DESCRIPTION:
URL:https://www.autismtoolkit.org/event/halloween-dance/
LOCATION:American Legion Post 77\, 674 American Legion Road\, Conyers\, GA\, 30012
CATEGORIES:Region 4
ATTACH;FMTTYPE=image/jpeg:https://www.autismtoolkit.org/wp-content/uploads/2025/10/554620422_1103189605255792_5670338025234061149_n.jpg
END:VEVENT
BEGIN:VEVENT
DTSTART;TZID=America/New_York:20251028T110000
DTEND;TZID=America/New_York:20251028T133000
DTSTAMP:20260423T072352
CREATED:20250825T144540Z
LAST-MODIFIED:20250825T144653Z
UID:7773-1761649200-1761658200@www.autismtoolkit.org
SUMMARY:Enrichment for Homeschoolers
DESCRIPTION:
URL:https://www.autismtoolkit.org/event/enrichment-for-homeschoolers/2025-10-28/
LOCATION:Spectrum Autism Support Center\, 2997 Main St\, Duluth\, GA\, 30096\, United States
CATEGORIES:Region 4
ATTACH;FMTTYPE=image/jpeg:https://www.autismtoolkit.org/wp-content/uploads/2025/08/NLEP-enrichment-days-fall-winter-2025-768x995-1.jpg
END:VEVENT
BEGIN:VEVENT
DTSTART;TZID=America/New_York:20251028T110000
DTEND;TZID=America/New_York:20251028T133000
DTSTAMP:20260423T072352
CREATED:20251003T140002Z
LAST-MODIFIED:20251003T140002Z
UID:8042-1761649200-1761658200@www.autismtoolkit.org
SUMMARY:October 2025 Homeschool Enrichment Program
DESCRIPTION:
URL:https://www.autismtoolkit.org/event/october-2025-homeschool-enrichment-program/2025-10-28/
LOCATION:Spectrum Autism Support Center\, 2997 Main St\, Duluth\, GA\, 30096\, United States
CATEGORIES:Region 4
ATTACH;FMTTYPE=image/png:https://www.autismtoolkit.org/wp-content/uploads/2025/10/Screenshot-2025-10-03-095701.png
END:VEVENT
END:VCALENDAR