BEGIN:VCALENDAR
VERSION:2.0
PRODID:-//Autism Toolkit of Georgia - ECPv6.15.20//NONSGML v1.0//EN
CALSCALE:GREGORIAN
METHOD:PUBLISH
X-WR-CALNAME:Autism Toolkit of Georgia
X-ORIGINAL-URL:https://www.autismtoolkit.org
X-WR-CALDESC:Events for Autism Toolkit of Georgia
REFRESH-INTERVAL;VALUE=DURATION:PT1H
X-Robots-Tag:noindex
X-PUBLISHED-TTL:PT1H
BEGIN:VTIMEZONE
TZID:America/New_York
BEGIN:DAYLIGHT
TZOFFSETFROM:-0500
TZOFFSETTO:-0400
TZNAME:EDT
DTSTART:20240310T070000
END:DAYLIGHT
BEGIN:STANDARD
TZOFFSETFROM:-0400
TZOFFSETTO:-0500
TZNAME:EST
DTSTART:20241103T060000
END:STANDARD
BEGIN:DAYLIGHT
TZOFFSETFROM:-0500
TZOFFSETTO:-0400
TZNAME:EDT
DTSTART:20250309T070000
END:DAYLIGHT
BEGIN:STANDARD
TZOFFSETFROM:-0400
TZOFFSETTO:-0500
TZNAME:EST
DTSTART:20251102T060000
END:STANDARD
BEGIN:DAYLIGHT
TZOFFSETFROM:-0500
TZOFFSETTO:-0400
TZNAME:EDT
DTSTART:20260308T070000
END:DAYLIGHT
BEGIN:STANDARD
TZOFFSETFROM:-0400
TZOFFSETTO:-0500
TZNAME:EST
DTSTART:20261101T060000
END:STANDARD
END:VTIMEZONE
BEGIN:VEVENT
DTSTART;TZID=America/New_York:20250913T160000
DTEND;TZID=America/New_York:20250913T180000
DTSTAMP:20260421T155902
CREATED:20250825T141833Z
LAST-MODIFIED:20250825T141833Z
UID:7804-1757779200-1757786400@www.autismtoolkit.org
SUMMARY:Teen Saturday Social Club
DESCRIPTION:
URL:https://www.autismtoolkit.org/event/teen-saturday-social-club/2025-09-13/
LOCATION:Spectrum Autism Support Center\, 2997 Main St\, Duluth\, GA\, 30096\, United States
CATEGORIES:Region 4
ATTACH;FMTTYPE=image/jpeg:https://www.autismtoolkit.org/wp-content/uploads/2025/08/teen-saturday-social-club-fall-2025.jpg
END:VEVENT
BEGIN:VEVENT
DTSTART;TZID=America/New_York:20250914T140000
DTEND;TZID=America/New_York:20250914T150000
DTSTAMP:20260421T155902
CREATED:20250822T192419Z
LAST-MODIFIED:20250822T192419Z
UID:7681-1757858400-1757862000@www.autismtoolkit.org
SUMMARY:FAST Fins Kedron
DESCRIPTION:
URL:https://www.autismtoolkit.org/event/fast-fins-kedron/2025-09-14/
LOCATION:Kedron Fieldhouse and Aquatic Center\, 202 Fieldhouse Drive\, Peachtree City\, GA\, 30269
CATEGORIES:Region 4
ATTACH;FMTTYPE=image/png:https://www.autismtoolkit.org/wp-content/uploads/2025/07/Screenshot-2025-07-02-151327.png
ORGANIZER;CN="Families of Children Under Stress (FOCUS)":MAILTO:inquiry@focus-ga.org
END:VEVENT
BEGIN:VEVENT
DTSTART;TZID=America/New_York:20250914T143000
DTEND;TZID=America/New_York:20250914T153000
DTSTAMP:20260421T155902
CREATED:20250822T192623Z
LAST-MODIFIED:20250822T192623Z
UID:7686-1757860200-1757863800@www.autismtoolkit.org
SUMMARY:FAST Fins Chastain
DESCRIPTION:
URL:https://www.autismtoolkit.org/event/fast-fins-chastain/2025-09-14/
LOCATION:Chastain Park Pool\, 235 W Wieuca Rd NW\, Atlanta\, GA\, 30327
CATEGORIES:Region 4
ATTACH;FMTTYPE=image/png:https://www.autismtoolkit.org/wp-content/uploads/2025/07/Screenshot-2025-07-02-151327.png
ORGANIZER;CN="Families of Children Under Stress (FOCUS)":MAILTO:inquiry@focus-ga.org
END:VEVENT
BEGIN:VEVENT
DTSTART;TZID=America/New_York:20250914T173000
DTEND;TZID=America/New_York:20250914T183000
DTSTAMP:20260421T155902
CREATED:20250822T192911Z
LAST-MODIFIED:20250822T192911Z
UID:7692-1757871000-1757874600@www.autismtoolkit.org
SUMMARY:FAST Fins Swim Atlanta Roswell
DESCRIPTION:
URL:https://www.autismtoolkit.org/event/fast-fins-swim-atlanta-roswell/2025-09-14/
LOCATION:Swim Atlanta Roswell\, 795 Old Roswell Road\, Roswell\, GA
CATEGORIES:Region 4
ATTACH;FMTTYPE=image/png:https://www.autismtoolkit.org/wp-content/uploads/2025/07/Screenshot-2025-07-02-151327.png
ORGANIZER;CN="Families of Children Under Stress (FOCUS)":MAILTO:inquiry@focus-ga.org
END:VEVENT
BEGIN:VEVENT
DTSTART;TZID=America/New_York:20250916T100000
DTEND;TZID=America/New_York:20250916T180000
DTSTAMP:20260421T155902
CREATED:20250822T163620Z
LAST-MODIFIED:20250822T163635Z
UID:7670-1758016800-1758045600@www.autismtoolkit.org
SUMMARY:Sharkey's Cuts for Kids
DESCRIPTION:
URL:https://www.autismtoolkit.org/event/sharkys-cuts-for-kids/2025-09-16/
LOCATION:Sharky’s Cuts for Kids\, 1600 Kennesaw Due West Rd NW\, Kennesaw\, GA\, 30152
CATEGORIES:Region 4
ATTACH;FMTTYPE=image/jpeg:https://www.autismtoolkit.org/wp-content/uploads/2025/08/527594209_122238617276217653_5493590820892020928_n.jpg
END:VEVENT
BEGIN:VEVENT
DTSTART;TZID=America/New_York:20250916T110000
DTEND;TZID=America/New_York:20250916T133000
DTSTAMP:20260421T155902
CREATED:20250825T144540Z
LAST-MODIFIED:20250825T144650Z
UID:7767-1758020400-1758029400@www.autismtoolkit.org
SUMMARY:Enrichment for Homeschoolers
DESCRIPTION:
URL:https://www.autismtoolkit.org/event/enrichment-for-homeschoolers/2025-09-16/
LOCATION:Spectrum Autism Support Center\, 2997 Main St\, Duluth\, GA\, 30096\, United States
CATEGORIES:Region 4
ATTACH;FMTTYPE=image/jpeg:https://www.autismtoolkit.org/wp-content/uploads/2025/08/NLEP-enrichment-days-fall-winter-2025-768x995-1.jpg
END:VEVENT
BEGIN:VEVENT
DTSTART;TZID=America/New_York:20250918T183000
DTEND;TZID=America/New_York:20250918T200000
DTSTAMP:20260421T155902
CREATED:20250502T163422Z
LAST-MODIFIED:20250502T163533Z
UID:6959-1758220200-1758225600@www.autismtoolkit.org
SUMMARY:ArtReach for Women Only
DESCRIPTION:
URL:https://www.autismtoolkit.org/event/artreach-for-women-only/2025-09-18/
LOCATION:Hudgens Center for Art and Learning\, 6400 Sugarloaf Parkway Building #300\, Duluth\, GA\, 30097\, United States
CATEGORIES:Region 4
ATTACH;FMTTYPE=image/jpeg:https://www.autismtoolkit.org/wp-content/uploads/2025/05/Spectrum-Artreach-Preview.jpg
END:VEVENT
BEGIN:VEVENT
DTSTART;TZID=America/New_York:20250919T110000
DTEND;TZID=America/New_York:20250919T133000
DTSTAMP:20260421T155902
CREATED:20250825T144915Z
LAST-MODIFIED:20250825T144915Z
UID:7782-1758279600-1758288600@www.autismtoolkit.org
SUMMARY:Spectrum's Friday Homeschool Social Club
DESCRIPTION:
URL:https://www.autismtoolkit.org/event/spectrums-friday-homeschool-social-club/2025-09-19/
LOCATION:Spectrum Autism Support Center\, 2997 Main St\, Duluth\, GA\, 30096\, United States
CATEGORIES:Region 4
ATTACH;FMTTYPE=image/jpeg:https://www.autismtoolkit.org/wp-content/uploads/2025/08/NELP-social-club-fall-winter-2025-768x995-1.jpg
END:VEVENT
BEGIN:VEVENT
DTSTART;TZID=America/New_York:20250919T173000
DTEND;TZID=America/New_York:20250919T183000
DTSTAMP:20260421T155902
CREATED:20250822T193613Z
LAST-MODIFIED:20250822T193613Z
UID:7699-1758303000-1758306600@www.autismtoolkit.org
SUMMARY:FAST Fins Mtn. View
DESCRIPTION:
URL:https://www.autismtoolkit.org/event/fast-fins-mtn-view/2025-09-19/
LOCATION:Mountain View Aquatic Center\, 2650 Gordy Parkway\, Marietta\, GA
CATEGORIES:Region 4
ATTACH;FMTTYPE=image/png:https://www.autismtoolkit.org/wp-content/uploads/2025/07/Screenshot-2025-07-02-151327.png
ORGANIZER;CN="Families of Children Under Stress (FOCUS)":MAILTO:inquiry@focus-ga.org
END:VEVENT
BEGIN:VEVENT
DTSTART;TZID=America/New_York:20250920T130000
DTEND;TZID=America/New_York:20250920T150000
DTSTAMP:20260421T155902
CREATED:20250825T151147Z
LAST-MODIFIED:20250825T151147Z
UID:7807-1758373200-1758380400@www.autismtoolkit.org
SUMMARY:Table Talk Jr. for Teens ages 12-17
DESCRIPTION:
URL:https://www.autismtoolkit.org/event/table-talk-jr-for-teens-ages-12-17-4/
LOCATION:Spectrum Autism Support Center\, 2997 Main St\, Duluth\, GA\, 30096\, United States
CATEGORIES:Region 4
ATTACH;FMTTYPE=image/jpeg:https://www.autismtoolkit.org/wp-content/uploads/2025/08/537018187_10239313277314364_8832634335159466091_n.jpg
END:VEVENT
BEGIN:VEVENT
DTSTART;TZID=America/New_York:20250920T160000
DTEND;TZID=America/New_York:20250920T180000
DTSTAMP:20260421T155902
CREATED:20250825T150824Z
LAST-MODIFIED:20250825T150824Z
UID:7805-1758384000-1758391200@www.autismtoolkit.org
SUMMARY:Table Talk
DESCRIPTION:
URL:https://www.autismtoolkit.org/event/table-talk-2/
LOCATION:Spectrum Autism Support Center\, 2997 Main St\, Duluth\, GA\, 30096\, United States
CATEGORIES:Region 4
ATTACH;FMTTYPE=image/jpeg:https://www.autismtoolkit.org/wp-content/uploads/2025/08/table-talk-sept-20-4.jpg
END:VEVENT
BEGIN:VEVENT
DTSTART;TZID=America/New_York:20250921T140000
DTEND;TZID=America/New_York:20250921T150000
DTSTAMP:20260421T155902
CREATED:20250822T192419Z
LAST-MODIFIED:20250822T192419Z
UID:7682-1758463200-1758466800@www.autismtoolkit.org
SUMMARY:FAST Fins Kedron
DESCRIPTION:
URL:https://www.autismtoolkit.org/event/fast-fins-kedron/2025-09-21/
LOCATION:Kedron Fieldhouse and Aquatic Center\, 202 Fieldhouse Drive\, Peachtree City\, GA\, 30269
CATEGORIES:Region 4
ATTACH;FMTTYPE=image/png:https://www.autismtoolkit.org/wp-content/uploads/2025/07/Screenshot-2025-07-02-151327.png
ORGANIZER;CN="Families of Children Under Stress (FOCUS)":MAILTO:inquiry@focus-ga.org
END:VEVENT
BEGIN:VEVENT
DTSTART;TZID=America/New_York:20250921T143000
DTEND;TZID=America/New_York:20250921T153000
DTSTAMP:20260421T155902
CREATED:20250822T192623Z
LAST-MODIFIED:20250822T192623Z
UID:7687-1758465000-1758468600@www.autismtoolkit.org
SUMMARY:FAST Fins Chastain
DESCRIPTION:
URL:https://www.autismtoolkit.org/event/fast-fins-chastain/2025-09-21/
LOCATION:Chastain Park Pool\, 235 W Wieuca Rd NW\, Atlanta\, GA\, 30327
CATEGORIES:Region 4
ATTACH;FMTTYPE=image/png:https://www.autismtoolkit.org/wp-content/uploads/2025/07/Screenshot-2025-07-02-151327.png
ORGANIZER;CN="Families of Children Under Stress (FOCUS)":MAILTO:inquiry@focus-ga.org
END:VEVENT
BEGIN:VEVENT
DTSTART;TZID=America/New_York:20250921T173000
DTEND;TZID=America/New_York:20250921T183000
DTSTAMP:20260421T155902
CREATED:20250822T192911Z
LAST-MODIFIED:20250822T192911Z
UID:7693-1758475800-1758479400@www.autismtoolkit.org
SUMMARY:FAST Fins Swim Atlanta Roswell
DESCRIPTION:
URL:https://www.autismtoolkit.org/event/fast-fins-swim-atlanta-roswell/2025-09-21/
LOCATION:Swim Atlanta Roswell\, 795 Old Roswell Road\, Roswell\, GA
CATEGORIES:Region 4
ATTACH;FMTTYPE=image/png:https://www.autismtoolkit.org/wp-content/uploads/2025/07/Screenshot-2025-07-02-151327.png
ORGANIZER;CN="Families of Children Under Stress (FOCUS)":MAILTO:inquiry@focus-ga.org
END:VEVENT
BEGIN:VEVENT
DTSTART;TZID=America/New_York:20250922T100000
DTEND;TZID=America/New_York:20250922T120000
DTSTAMP:20260421T155902
CREATED:20250822T202105Z
LAST-MODIFIED:20250822T202105Z
UID:7725-1758535200-1758542400@www.autismtoolkit.org
SUMMARY:Let's Play - Cobb Lekotek Open Play Date
DESCRIPTION:
URL:https://www.autismtoolkit.org/event/lets-play-cobb-lekotek-open-play-date/
LOCATION:Cobb Lekotek of Georgia\, 1925 Vaughn Rd NW #130\, Kennesaw\, GA\, 30144\, United States
CATEGORIES:Region 4
ATTACH;FMTTYPE=image/png:https://www.autismtoolkit.org/wp-content/uploads/2025/08/13.png
ORGANIZER;CN="Lekotek of Georgia":MAILTO:info@lekotekga.org
END:VEVENT
BEGIN:VEVENT
DTSTART;TZID=America/New_York:20250923T100000
DTEND;TZID=America/New_York:20250923T180000
DTSTAMP:20260421T155902
CREATED:20250822T163620Z
LAST-MODIFIED:20250822T163635Z
UID:7671-1758621600-1758650400@www.autismtoolkit.org
SUMMARY:Sharkey's Cuts for Kids
DESCRIPTION:
URL:https://www.autismtoolkit.org/event/sharkys-cuts-for-kids/2025-09-23/
LOCATION:Sharky’s Cuts for Kids\, 1600 Kennesaw Due West Rd NW\, Kennesaw\, GA\, 30152
CATEGORIES:Region 4
ATTACH;FMTTYPE=image/jpeg:https://www.autismtoolkit.org/wp-content/uploads/2025/08/527594209_122238617276217653_5493590820892020928_n.jpg
END:VEVENT
BEGIN:VEVENT
DTSTART;TZID=America/New_York:20250923T110000
DTEND;TZID=America/New_York:20250923T133000
DTSTAMP:20260421T155902
CREATED:20250825T144540Z
LAST-MODIFIED:20250825T144651Z
UID:7768-1758625200-1758634200@www.autismtoolkit.org
SUMMARY:Enrichment for Homeschoolers
DESCRIPTION:
URL:https://www.autismtoolkit.org/event/enrichment-for-homeschoolers/2025-09-23/
LOCATION:Spectrum Autism Support Center\, 2997 Main St\, Duluth\, GA\, 30096\, United States
CATEGORIES:Region 4
ATTACH;FMTTYPE=image/jpeg:https://www.autismtoolkit.org/wp-content/uploads/2025/08/NLEP-enrichment-days-fall-winter-2025-768x995-1.jpg
END:VEVENT
BEGIN:VEVENT
DTSTART;TZID=America/New_York:20250925T170000
DTEND;TZID=America/New_York:20250925T210000
DTSTAMP:20260421T155902
CREATED:20250825T152105Z
LAST-MODIFIED:20250825T152105Z
UID:7814-1758819600-1758834000@www.autismtoolkit.org
SUMMARY:2025 Eddie Awards
DESCRIPTION:
URL:https://www.autismtoolkit.org/event/2025-eddie-awards/
LOCATION:Cobb Energy Performing Arts Centre\, 2800 Cobb Galleria Pkwy\, Atlanta\, GA\, 30339
CATEGORIES:Region 4
ATTACH;FMTTYPE=image/png:https://www.autismtoolkit.org/wp-content/uploads/2025/05/17.png
END:VEVENT
BEGIN:VEVENT
DTSTART;TZID=America/New_York:20250926T110000
DTEND;TZID=America/New_York:20250926T133000
DTSTAMP:20260421T155902
CREATED:20250825T144915Z
LAST-MODIFIED:20250825T144915Z
UID:7783-1758884400-1758893400@www.autismtoolkit.org
SUMMARY:Spectrum's Friday Homeschool Social Club
DESCRIPTION:
URL:https://www.autismtoolkit.org/event/spectrums-friday-homeschool-social-club/2025-09-26/
LOCATION:Spectrum Autism Support Center\, 2997 Main St\, Duluth\, GA\, 30096\, United States
CATEGORIES:Region 4
ATTACH;FMTTYPE=image/jpeg:https://www.autismtoolkit.org/wp-content/uploads/2025/08/NELP-social-club-fall-winter-2025-768x995-1.jpg
END:VEVENT
BEGIN:VEVENT
DTSTART;TZID=America/New_York:20250926T173000
DTEND;TZID=America/New_York:20250926T183000
DTSTAMP:20260421T155902
CREATED:20250822T193613Z
LAST-MODIFIED:20250822T193613Z
UID:7700-1758907800-1758911400@www.autismtoolkit.org
SUMMARY:FAST Fins Mtn. View
DESCRIPTION:
URL:https://www.autismtoolkit.org/event/fast-fins-mtn-view/2025-09-26/
LOCATION:Mountain View Aquatic Center\, 2650 Gordy Parkway\, Marietta\, GA
CATEGORIES:Region 4
ATTACH;FMTTYPE=image/png:https://www.autismtoolkit.org/wp-content/uploads/2025/07/Screenshot-2025-07-02-151327.png
ORGANIZER;CN="Families of Children Under Stress (FOCUS)":MAILTO:inquiry@focus-ga.org
END:VEVENT
BEGIN:VEVENT
DTSTART;TZID=America/New_York:20250927T093000
DTEND;TZID=America/New_York:20250927T133000
DTSTAMP:20260421T155902
CREATED:20250822T194046Z
LAST-MODIFIED:20250822T194046Z
UID:7707-1758965400-1758979800@www.autismtoolkit.org
SUMMARY:Extra Special Saturday Respite
DESCRIPTION:
URL:https://www.autismtoolkit.org/event/extra-special-saturday-respite-4/2025-09-27/
LOCATION:Alpharetta Presbyterian Church\, 180 Academy Street\, Alpharetta\, GA\, 30009\, United States
CATEGORIES:Region 4
ATTACH;FMTTYPE=image/png:https://www.autismtoolkit.org/wp-content/uploads/2025/07/Screenshot-2025-07-02-151327.png
ORGANIZER;CN="Families of Children Under Stress (FOCUS)":MAILTO:inquiry@focus-ga.org
END:VEVENT
BEGIN:VEVENT
DTSTART;TZID=America/New_York:20250927T180000
DTEND;TZID=America/New_York:20250927T210000
DTSTAMP:20260421T155902
CREATED:20250825T154058Z
LAST-MODIFIED:20250825T154058Z
UID:7822-1758996000-1759006800@www.autismtoolkit.org
SUMMARY:ATLANTA AUTISM FASHION NIGHT (AAFN)
DESCRIPTION:
URL:https://www.autismtoolkit.org/event/atlanta-autism-fashion-night-aafn/
LOCATION:Auturity Inc\, 4485 Lawrenceville Hwy Suite 207\, Lilburn\, GA\, 30047
CATEGORIES:Region 4
ATTACH;FMTTYPE=image/jpeg:https://www.autismtoolkit.org/wp-content/uploads/2025/08/6M4tZ94Kn7qm0EeSdrUgZOQ2p60KU1KmWCLqxX79.jpg
END:VEVENT
BEGIN:VEVENT
DTSTART;TZID=America/New_York:20250928T143000
DTEND;TZID=America/New_York:20250928T153000
DTSTAMP:20260421T155902
CREATED:20250822T192623Z
LAST-MODIFIED:20250822T192623Z
UID:7688-1759069800-1759073400@www.autismtoolkit.org
SUMMARY:FAST Fins Chastain
DESCRIPTION:
URL:https://www.autismtoolkit.org/event/fast-fins-chastain/2025-09-28/
LOCATION:Chastain Park Pool\, 235 W Wieuca Rd NW\, Atlanta\, GA\, 30327
CATEGORIES:Region 4
ATTACH;FMTTYPE=image/png:https://www.autismtoolkit.org/wp-content/uploads/2025/07/Screenshot-2025-07-02-151327.png
ORGANIZER;CN="Families of Children Under Stress (FOCUS)":MAILTO:inquiry@focus-ga.org
END:VEVENT
BEGIN:VEVENT
DTSTART;TZID=America/New_York:20250928T173000
DTEND;TZID=America/New_York:20250928T183000
DTSTAMP:20260421T155902
CREATED:20250822T192911Z
LAST-MODIFIED:20250822T192911Z
UID:7694-1759080600-1759084200@www.autismtoolkit.org
SUMMARY:FAST Fins Swim Atlanta Roswell
DESCRIPTION:
URL:https://www.autismtoolkit.org/event/fast-fins-swim-atlanta-roswell/2025-09-28/
LOCATION:Swim Atlanta Roswell\, 795 Old Roswell Road\, Roswell\, GA
CATEGORIES:Region 4
ATTACH;FMTTYPE=image/png:https://www.autismtoolkit.org/wp-content/uploads/2025/07/Screenshot-2025-07-02-151327.png
ORGANIZER;CN="Families of Children Under Stress (FOCUS)":MAILTO:inquiry@focus-ga.org
END:VEVENT
BEGIN:VEVENT
DTSTART;TZID=America/New_York:20250930T100000
DTEND;TZID=America/New_York:20250930T180000
DTSTAMP:20260421T155902
CREATED:20250822T163620Z
LAST-MODIFIED:20250822T163635Z
UID:7672-1759226400-1759255200@www.autismtoolkit.org
SUMMARY:Sharkey's Cuts for Kids
DESCRIPTION:
URL:https://www.autismtoolkit.org/event/sharkys-cuts-for-kids/2025-09-30/
LOCATION:Sharky’s Cuts for Kids\, 1600 Kennesaw Due West Rd NW\, Kennesaw\, GA\, 30152
CATEGORIES:Region 4
ATTACH;FMTTYPE=image/jpeg:https://www.autismtoolkit.org/wp-content/uploads/2025/08/527594209_122238617276217653_5493590820892020928_n.jpg
END:VEVENT
BEGIN:VEVENT
DTSTART;TZID=America/New_York:20250930T110000
DTEND;TZID=America/New_York:20250930T133000
DTSTAMP:20260421T155902
CREATED:20250825T144540Z
LAST-MODIFIED:20250825T144651Z
UID:7769-1759230000-1759239000@www.autismtoolkit.org
SUMMARY:Enrichment for Homeschoolers
DESCRIPTION:
URL:https://www.autismtoolkit.org/event/enrichment-for-homeschoolers/2025-09-30/
LOCATION:Spectrum Autism Support Center\, 2997 Main St\, Duluth\, GA\, 30096\, United States
CATEGORIES:Region 4
ATTACH;FMTTYPE=image/jpeg:https://www.autismtoolkit.org/wp-content/uploads/2025/08/NLEP-enrichment-days-fall-winter-2025-768x995-1.jpg
END:VEVENT
BEGIN:VEVENT
DTSTART;TZID=America/New_York:20251002T183000
DTEND;TZID=America/New_York:20251002T200000
DTSTAMP:20260421T155902
CREATED:20250825T142712Z
LAST-MODIFIED:20250825T142712Z
UID:7748-1759429800-1759435200@www.autismtoolkit.org
SUMMARY:Parent Support Group - Parents of Children
DESCRIPTION:
URL:https://www.autismtoolkit.org/event/parent-support-group-parents-of-children/2025-10-02/
LOCATION:Spectrum Autism Support Center\, 2997 Main St\, Duluth\, GA\, 30096\, United States
CATEGORIES:Region 4
ATTACH;FMTTYPE=image/jpeg:https://www.autismtoolkit.org/wp-content/uploads/2025/08/monthly-meeting-sept-04-768x995-1.jpg
END:VEVENT
BEGIN:VEVENT
DTSTART;VALUE=DATE:20251003
DTEND;VALUE=DATE:20251004
DTSTAMP:20260421T155902
CREATED:20251002T201608Z
LAST-MODIFIED:20251002T201608Z
UID:8003-1759449600-1759535999@www.autismtoolkit.org
SUMMARY:Fodac Golf Classic
DESCRIPTION:
URL:https://www.autismtoolkit.org/event/fodac-golf-classic/
LOCATION:Stone Mountain Golf Club\, 1145 Stonewall Jackson Dr\, Stone Mountain\, Georgia\, 30083
CATEGORIES:Region 4
ATTACH;FMTTYPE=image/png:https://www.autismtoolkit.org/wp-content/uploads/2025/10/Golf-2025-Web-Banner-1-1024x419-1.png
END:VEVENT
BEGIN:VEVENT
DTSTART;TZID=America/New_York:20251003T110000
DTEND;TZID=America/New_York:20251003T133000
DTSTAMP:20260421T155902
CREATED:20250825T144915Z
LAST-MODIFIED:20250825T144915Z
UID:7784-1759489200-1759498200@www.autismtoolkit.org
SUMMARY:Spectrum's Friday Homeschool Social Club
DESCRIPTION:
URL:https://www.autismtoolkit.org/event/spectrums-friday-homeschool-social-club/2025-10-03/
LOCATION:Spectrum Autism Support Center\, 2997 Main St\, Duluth\, GA\, 30096\, United States
CATEGORIES:Region 4
ATTACH;FMTTYPE=image/jpeg:https://www.autismtoolkit.org/wp-content/uploads/2025/08/NELP-social-club-fall-winter-2025-768x995-1.jpg
END:VEVENT
BEGIN:VEVENT
DTSTART;TZID=America/New_York:20251003T173000
DTEND;TZID=America/New_York:20251003T183000
DTSTAMP:20260421T155902
CREATED:20250822T193613Z
LAST-MODIFIED:20250822T193613Z
UID:7701-1759512600-1759516200@www.autismtoolkit.org
SUMMARY:FAST Fins Mtn. View
DESCRIPTION:
URL:https://www.autismtoolkit.org/event/fast-fins-mtn-view/2025-10-03/
LOCATION:Mountain View Aquatic Center\, 2650 Gordy Parkway\, Marietta\, GA
CATEGORIES:Region 4
ATTACH;FMTTYPE=image/png:https://www.autismtoolkit.org/wp-content/uploads/2025/07/Screenshot-2025-07-02-151327.png
ORGANIZER;CN="Families of Children Under Stress (FOCUS)":MAILTO:inquiry@focus-ga.org
END:VEVENT
END:VCALENDAR