BEGIN:VCALENDAR
VERSION:2.0
PRODID:-//Autism Toolkit of Georgia - ECPv6.15.20//NONSGML v1.0//EN
CALSCALE:GREGORIAN
METHOD:PUBLISH
X-ORIGINAL-URL:https://www.autismtoolkit.org
X-WR-CALDESC:Events for Autism Toolkit of Georgia
REFRESH-INTERVAL;VALUE=DURATION:PT1H
X-Robots-Tag:noindex
X-PUBLISHED-TTL:PT1H
BEGIN:VTIMEZONE
TZID:America/New_York
BEGIN:DAYLIGHT
TZOFFSETFROM:-0500
TZOFFSETTO:-0400
TZNAME:EDT
DTSTART:20250309T070000
END:DAYLIGHT
BEGIN:STANDARD
TZOFFSETFROM:-0400
TZOFFSETTO:-0500
TZNAME:EST
DTSTART:20251102T060000
END:STANDARD
BEGIN:DAYLIGHT
TZOFFSETFROM:-0500
TZOFFSETTO:-0400
TZNAME:EDT
DTSTART:20260308T070000
END:DAYLIGHT
BEGIN:STANDARD
TZOFFSETFROM:-0400
TZOFFSETTO:-0500
TZNAME:EST
DTSTART:20261101T060000
END:STANDARD
BEGIN:DAYLIGHT
TZOFFSETFROM:-0500
TZOFFSETTO:-0400
TZNAME:EDT
DTSTART:20270314T070000
END:DAYLIGHT
BEGIN:STANDARD
TZOFFSETFROM:-0400
TZOFFSETTO:-0500
TZNAME:EST
DTSTART:20271107T060000
END:STANDARD
END:VTIMEZONE
BEGIN:VEVENT
DTSTART;TZID=America/New_York:20260305T120000
DTEND;TZID=America/New_York:20260305T133000
DTSTAMP:20260422T060836
CREATED:20251028T190527Z
LAST-MODIFIED:20251028T190527Z
UID:8140-1772712000-1772717400@www.autismtoolkit.org
SUMMARY:Support Group for Gender Diverse Adults
DESCRIPTION:
URL:https://www.autismtoolkit.org/event/support-group-for-gender-diverse-adults/2026-03-05/
CATEGORIES:Virtual
ATTACH;FMTTYPE=image/jpeg:https://www.autismtoolkit.org/wp-content/uploads/2025/10/marco-lastella-K0UiWnv1vBA-unsplash-1024x683-1.jpg
ORGANIZER;CN="Association for Autism and Neurodiversity (AANE)":MAILTO:info@aane.org
END:VEVENT
BEGIN:VEVENT
DTSTART;TZID=America/New_York:20260319T120000
DTEND;TZID=America/New_York:20260319T133000
DTSTAMP:20260422T060836
CREATED:20251028T190527Z
LAST-MODIFIED:20251028T190527Z
UID:8141-1773921600-1773927000@www.autismtoolkit.org
SUMMARY:Support Group for Gender Diverse Adults
DESCRIPTION:
URL:https://www.autismtoolkit.org/event/support-group-for-gender-diverse-adults/2026-03-19/
CATEGORIES:Virtual
ATTACH;FMTTYPE=image/jpeg:https://www.autismtoolkit.org/wp-content/uploads/2025/10/marco-lastella-K0UiWnv1vBA-unsplash-1024x683-1.jpg
ORGANIZER;CN="Association for Autism and Neurodiversity (AANE)":MAILTO:info@aane.org
END:VEVENT
END:VCALENDAR