BEGIN:VCALENDAR
VERSION:2.0
PRODID:-//Autism Toolkit of Georgia - ECPv6.15.20//NONSGML v1.0//EN
CALSCALE:GREGORIAN
METHOD:PUBLISH
X-WR-CALNAME:Autism Toolkit of Georgia
X-ORIGINAL-URL:https://www.autismtoolkit.org
X-WR-CALDESC:Events for Autism Toolkit of Georgia
REFRESH-INTERVAL;VALUE=DURATION:PT1H
X-Robots-Tag:noindex
X-PUBLISHED-TTL:PT1H
BEGIN:VTIMEZONE
TZID:America/New_York
BEGIN:DAYLIGHT
TZOFFSETFROM:-0500
TZOFFSETTO:-0400
TZNAME:EDT
DTSTART:20250309T070000
END:DAYLIGHT
BEGIN:STANDARD
TZOFFSETFROM:-0400
TZOFFSETTO:-0500
TZNAME:EST
DTSTART:20251102T060000
END:STANDARD
BEGIN:DAYLIGHT
TZOFFSETFROM:-0500
TZOFFSETTO:-0400
TZNAME:EDT
DTSTART:20260308T070000
END:DAYLIGHT
BEGIN:STANDARD
TZOFFSETFROM:-0400
TZOFFSETTO:-0500
TZNAME:EST
DTSTART:20261101T060000
END:STANDARD
BEGIN:DAYLIGHT
TZOFFSETFROM:-0500
TZOFFSETTO:-0400
TZNAME:EDT
DTSTART:20270314T070000
END:DAYLIGHT
BEGIN:STANDARD
TZOFFSETFROM:-0400
TZOFFSETTO:-0500
TZNAME:EST
DTSTART:20271107T060000
END:STANDARD
END:VTIMEZONE
BEGIN:VEVENT
DTSTART;TZID=America/New_York:20260422T173000
DTEND;TZID=America/New_York:20260422T193000
DTSTAMP:20260420T120726
CREATED:20260401T180925Z
LAST-MODIFIED:20260401T180925Z
UID:9409-1776879000-1776886200@www.autismtoolkit.org
SUMMARY:Early Childhood Transitions
DESCRIPTION:
URL:https://www.autismtoolkit.org/event/early-childhood-transitions/
CATEGORIES:Virtual
ATTACH;FMTTYPE=image/png:https://www.autismtoolkit.org/wp-content/uploads/2026/04/early-childhood-300x300-1.png
END:VEVENT
BEGIN:VEVENT
DTSTART;TZID=America/New_York:20260427T140000
DTEND;TZID=America/New_York:20260427T150000
DTSTAMP:20260420T120726
CREATED:20260401T173728Z
LAST-MODIFIED:20260401T173728Z
UID:9385-1777298400-1777302000@www.autismtoolkit.org
SUMMARY:From High School to Life: Designing Transition IEPs That Reflect Real Futures
DESCRIPTION:
URL:https://www.autismtoolkit.org/event/from-high-school-to-life-designing-transition-ieps-that-reflect-real-futures/
CATEGORIES:Virtual
ATTACH;FMTTYPE=image/png:https://www.autismtoolkit.org/wp-content/uploads/2026/04/10805951-0936-4495-a16c-d91f5206428e.png
ORGANIZER;CN="RAISE%3A A SPAN Project":MAILTO:jbadger@raisecenter.org
END:VEVENT
END:VCALENDAR