BEGIN:VCALENDAR
VERSION:2.0
PRODID:-//Autism Toolkit of Georgia - ECPv6.15.20//NONSGML v1.0//EN
CALSCALE:GREGORIAN
METHOD:PUBLISH
X-WR-CALNAME:Autism Toolkit of Georgia
X-ORIGINAL-URL:https://www.autismtoolkit.org
X-WR-CALDESC:Events for Autism Toolkit of Georgia
REFRESH-INTERVAL;VALUE=DURATION:PT1H
X-Robots-Tag:noindex
X-PUBLISHED-TTL:PT1H
BEGIN:VTIMEZONE
TZID:America/New_York
BEGIN:DAYLIGHT
TZOFFSETFROM:-0500
TZOFFSETTO:-0400
TZNAME:EDT
DTSTART:20240310T070000
END:DAYLIGHT
BEGIN:STANDARD
TZOFFSETFROM:-0400
TZOFFSETTO:-0500
TZNAME:EST
DTSTART:20241103T060000
END:STANDARD
BEGIN:DAYLIGHT
TZOFFSETFROM:-0500
TZOFFSETTO:-0400
TZNAME:EDT
DTSTART:20250309T070000
END:DAYLIGHT
BEGIN:STANDARD
TZOFFSETFROM:-0400
TZOFFSETTO:-0500
TZNAME:EST
DTSTART:20251102T060000
END:STANDARD
BEGIN:DAYLIGHT
TZOFFSETFROM:-0500
TZOFFSETTO:-0400
TZNAME:EDT
DTSTART:20260308T070000
END:DAYLIGHT
BEGIN:STANDARD
TZOFFSETFROM:-0400
TZOFFSETTO:-0500
TZNAME:EST
DTSTART:20261101T060000
END:STANDARD
BEGIN:DAYLIGHT
TZOFFSETFROM:-0500
TZOFFSETTO:-0400
TZNAME:EDT
DTSTART:20270314T070000
END:DAYLIGHT
BEGIN:STANDARD
TZOFFSETFROM:-0400
TZOFFSETTO:-0500
TZNAME:EST
DTSTART:20271107T060000
END:STANDARD
END:VTIMEZONE
BEGIN:VEVENT
DTSTART;TZID=America/New_York:20260416T180000
DTEND;TZID=America/New_York:20260416T190000
DTSTAMP:20260420T182322
CREATED:20260401T194837Z
LAST-MODIFIED:20260401T194837Z
UID:9460-1776362400-1776366000@www.autismtoolkit.org
SUMMARY:Movin' Up! Planning Your Child’s Successful Transition at Age 3
DESCRIPTION:
URL:https://www.autismtoolkit.org/event/movin-up-planning-your-childs-successful-transition-at-age-3-5/
CATEGORIES:Virtual
ATTACH;FMTTYPE=image/png:https://www.autismtoolkit.org/wp-content/uploads/2026/02/Screenshot-2026-02-09-154137.png
ORGANIZER;CN="Parent to Parent of Georgia":MAILTO:https://www.p2pga.org/contact-us
END:VEVENT
BEGIN:VEVENT
DTSTART;TZID=America/New_York:20260415T180000
DTEND;TZID=America/New_York:20260415T193000
DTSTAMP:20260420T182322
CREATED:20260401T194635Z
LAST-MODIFIED:20260401T194635Z
UID:9458-1776276000-1776281400@www.autismtoolkit.org
SUMMARY:SPEDTalks: Navigating Special Education
DESCRIPTION:
URL:https://www.autismtoolkit.org/event/spedtalks-navigating-special-education/
CATEGORIES:Virtual
ATTACH;FMTTYPE=image/png:https://www.autismtoolkit.org/wp-content/uploads/2026/04/SpedTalks_Flyer_4_15_26__1_.png
ORGANIZER;CN="Parent to Parent of Georgia":MAILTO:https://www.p2pga.org/contact-us
END:VEVENT
BEGIN:VEVENT
DTSTART;TZID=America/New_York:20260407T180000
DTEND;TZID=America/New_York:20260407T190000
DTSTAMP:20260420T182322
CREATED:20260401T152843Z
LAST-MODIFIED:20260401T152843Z
UID:9361-1775584800-1775588400@www.autismtoolkit.org
SUMMARY:Post School Outcomes
DESCRIPTION:
URL:https://www.autismtoolkit.org/event/post-school-outcomes-2/
CATEGORIES:Virtual
ATTACH;FMTTYPE=image/jpeg:https://www.autismtoolkit.org/wp-content/uploads/2026/04/649907084_1355942369884340_7918185723404267008_n.jpg
ORGANIZER;CN="Parent to Parent of Georgia":MAILTO:https://www.p2pga.org/contact-us
END:VEVENT
BEGIN:VEVENT
DTSTART;TZID=America/New_York:20260407T120000
DTEND;TZID=America/New_York:20260407T130000
DTSTAMP:20260420T182322
CREATED:20260401T152634Z
LAST-MODIFIED:20260401T152724Z
UID:9359-1775563200-1775566800@www.autismtoolkit.org
SUMMARY:Post School Outcomes
DESCRIPTION:
URL:https://www.autismtoolkit.org/event/post-school-outcomes/
CATEGORIES:Virtual
ATTACH;FMTTYPE=image/jpeg:https://www.autismtoolkit.org/wp-content/uploads/2026/04/649907084_1355942369884340_7918185723404267008_n.jpg
ORGANIZER;CN="Parent to Parent of Georgia":MAILTO:https://www.p2pga.org/contact-us
END:VEVENT
BEGIN:VEVENT
DTSTART;TZID=America/New_York:20260407T100000
DTEND;TZID=America/New_York:20260407T120000
DTSTAMP:20260420T182322
CREATED:20260401T160459Z
LAST-MODIFIED:20260401T160459Z
UID:9367-1775556000-1775563200@www.autismtoolkit.org
SUMMARY:En Entrenamiento Gratuito para Padres y Cuidadores Sobre Transicion a los Cuidados de Salud para Adultos
DESCRIPTION:
URL:https://www.autismtoolkit.org/event/en-entrenamiento-gratuito-para-padres-y-cuidadores-sobre-transicion-a-los-cuidados-de-salud-para-adultos/
LOCATION:Parent to Parent of Georgia\, 3070 Presidential Parkway\, Suite #130\, Atlanta\, GA\, 30340\, United States
CATEGORIES:Region 4
ATTACH;FMTTYPE=image/jpeg:https://www.autismtoolkit.org/wp-content/uploads/2026/04/658418517_1370102935134950_6513994878119192333_n.jpg
ORGANIZER;CN="Parent to Parent of Georgia":MAILTO:https://www.p2pga.org/contact-us
END:VEVENT
BEGIN:VEVENT
DTSTART;TZID=America/New_York:20260402T180000
DTEND;TZID=America/New_York:20260402T200000
DTSTAMP:20260420T182322
CREATED:20260401T194351Z
LAST-MODIFIED:20260401T194351Z
UID:9457-1775152800-1775160000@www.autismtoolkit.org
SUMMARY:The Big IDEA! What's the Big IDEA Behind Inclusion?
DESCRIPTION:
URL:https://www.autismtoolkit.org/event/the-big-idea-whats-the-big-idea-behind-inclusion/
LOCATION:Ike Owings Community Center\, 8830 Gurlry Rd\, Douglasville\, GA\, 30134\, United States
CATEGORIES:Region 4
ATTACH;FMTTYPE=image/png:https://www.autismtoolkit.org/wp-content/uploads/2025/10/Screenshot-2025-10-03-092544.png
ORGANIZER;CN="Parent to Parent of Georgia":MAILTO:https://www.p2pga.org/contact-us
END:VEVENT
BEGIN:VEVENT
DTSTART;TZID=America/New_York:20260226T120000
DTEND;TZID=America/New_York:20260226T130000
DTSTAMP:20260420T182322
CREATED:20260209T204434Z
LAST-MODIFIED:20260209T204434Z
UID:8947-1772107200-1772110800@www.autismtoolkit.org
SUMMARY:Comprendiendo el proceso de disciplina escolar a través de la Ley IDEA y los Planes de Educación Individualizada (IEP)
DESCRIPTION:
URL:https://www.autismtoolkit.org/event/comprendiendo-el-proceso-de-disciplina-escolar-a-traves-de-la-ley-idea-y-los-planes-de-educacion-individualizada-iep/
CATEGORIES:Virtual
ATTACH;FMTTYPE=image/png:https://www.autismtoolkit.org/wp-content/uploads/2026/02/Screenshot-2026-02-09-154137.png
ORGANIZER;CN="Parent to Parent of Georgia":MAILTO:https://www.p2pga.org/contact-us
END:VEVENT
BEGIN:VEVENT
DTSTART;TZID=America/New_York:20260219T110000
DTEND;TZID=America/New_York:20260219T123000
DTSTAMP:20260420T182322
CREATED:20260209T204308Z
LAST-MODIFIED:20260209T204308Z
UID:8946-1771498800-1771504200@www.autismtoolkit.org
SUMMARY:A Roadmap to Understanding the IEP: Goals\, Services\, and Supports
DESCRIPTION:
URL:https://www.autismtoolkit.org/event/a-roadmap-to-understanding-the-iep-goals-services-and-supports/
CATEGORIES:Virtual
ATTACH;FMTTYPE=image/png:https://www.autismtoolkit.org/wp-content/uploads/2026/02/Screenshot-2026-02-09-154137.png
ORGANIZER;CN="Parent to Parent of Georgia":MAILTO:https://www.p2pga.org/contact-us
END:VEVENT
BEGIN:VEVENT
DTSTART;TZID=America/New_York:20260211T100000
DTEND;TZID=America/New_York:20260211T113000
DTSTAMP:20260420T182322
CREATED:20260209T204201Z
LAST-MODIFIED:20260209T204201Z
UID:8944-1770804000-1770809400@www.autismtoolkit.org
SUMMARY:Peace\, Love\, Harmony…and the IFSP/IEP?
DESCRIPTION:
URL:https://www.autismtoolkit.org/event/peace-love-harmonyand-the-ifsp-iep-2/
CATEGORIES:Virtual
ATTACH;FMTTYPE=image/png:https://www.autismtoolkit.org/wp-content/uploads/2026/02/Screenshot-2026-02-09-154137.png
ORGANIZER;CN="Parent to Parent of Georgia":MAILTO:https://www.p2pga.org/contact-us
END:VEVENT
BEGIN:VEVENT
DTSTART;TZID=America/New_York:20251216T110000
DTEND;TZID=America/New_York:20251216T123000
DTSTAMP:20260420T182322
CREATED:20251202T210920Z
LAST-MODIFIED:20251202T210920Z
UID:8407-1765882800-1765888200@www.autismtoolkit.org
SUMMARY:Movin Up: Planning Your Child's Successful Transition at Age 3
DESCRIPTION:
URL:https://www.autismtoolkit.org/event/movin-up-planning-your-childs-successful-transition-at-age-3-3/
CATEGORIES:Virtual
ATTACH;FMTTYPE=image/png:https://www.autismtoolkit.org/wp-content/uploads/2025/10/Screenshot-2025-10-03-092544.png
ORGANIZER;CN="Parent to Parent of Georgia":MAILTO:https://www.p2pga.org/contact-us
END:VEVENT
BEGIN:VEVENT
DTSTART;TZID=America/New_York:20251209T180000
DTEND;TZID=America/New_York:20251209T190000
DTSTAMP:20260420T182322
CREATED:20251202T210726Z
LAST-MODIFIED:20251202T210726Z
UID:8406-1765303200-1765306800@www.autismtoolkit.org
SUMMARY:Understanding the Adult Guardianship Process in Georgia
DESCRIPTION:
URL:https://www.autismtoolkit.org/event/understanding-the-adult-guardianship-process-in-georgia-3/
CATEGORIES:Virtual
ATTACH;FMTTYPE=image/png:https://www.autismtoolkit.org/wp-content/uploads/2025/10/Screenshot-2025-10-03-092544.png
ORGANIZER;CN="Parent to Parent of Georgia":MAILTO:https://www.p2pga.org/contact-us
END:VEVENT
BEGIN:VEVENT
DTSTART;TZID=America/New_York:20251209T180000
DTEND;TZID=America/New_York:20251209T190000
DTSTAMP:20260420T182322
CREATED:20251202T210538Z
LAST-MODIFIED:20251202T210538Z
UID:8405-1765303200-1765306800@www.autismtoolkit.org
SUMMARY:Georgia Medicaid Basics and the Katie Beckett Deeming Waiver
DESCRIPTION:
URL:https://www.autismtoolkit.org/event/georgia-medicaid-basics-and-the-katie-beckett-deeming-waiver-2/
CATEGORIES:Virtual
ATTACH;FMTTYPE=image/png:https://www.autismtoolkit.org/wp-content/uploads/2025/10/Screenshot-2025-10-03-092544.png
ORGANIZER;CN="Parent to Parent of Georgia":MAILTO:https://www.p2pga.org/contact-us
END:VEVENT
BEGIN:VEVENT
DTSTART;TZID=America/New_York:20251108T180000
DTEND;TZID=America/New_York:20251108T200000
DTSTAMP:20260420T182322
CREATED:20251029T193605Z
LAST-MODIFIED:20251029T193605Z
UID:8253-1762624800-1762632000@www.autismtoolkit.org
SUMMARY:Tiaras\, Ties & Talent Pageant - Talent and Special needs Pageant
DESCRIPTION:
URL:https://www.autismtoolkit.org/event/tiaras-ties-talent-pageant-talent-and-special-needs-pageant/
LOCATION:Lavonia Cultural Center\, 12005 Augusta Rd\, Lavonia\, GA\, 30553
CATEGORIES:Region 3
ATTACH;FMTTYPE=image/jpeg:https://www.autismtoolkit.org/wp-content/uploads/2025/10/Flyer_11-8-25.jpg
ORGANIZER;CN="Parent to Parent of Georgia":MAILTO:https://www.p2pga.org/contact-us
END:VEVENT
BEGIN:VEVENT
DTSTART;TZID=America/New_York:20251106T180000
DTEND;TZID=America/New_York:20251106T200000
DTSTAMP:20260420T182322
CREATED:20251029T193056Z
LAST-MODIFIED:20251029T193056Z
UID:8250-1762452000-1762459200@www.autismtoolkit.org
SUMMARY:Transitioning to Adult Healthcare
DESCRIPTION:
URL:https://www.autismtoolkit.org/event/transitioning-to-adult-healthcare-3/
LOCATION:Ike Owings Community Center\, 8830 Gurlry Rd\, Douglasville\, GA\, 30134\, United States
CATEGORIES:Region 4
ATTACH;FMTTYPE=image/png:https://www.autismtoolkit.org/wp-content/uploads/2025/10/Untitled_design__9_.png
ORGANIZER;CN="Parent to Parent of Georgia":MAILTO:https://www.p2pga.org/contact-us
END:VEVENT
BEGIN:VEVENT
DTSTART;TZID=America/New_York:20251106T110000
DTEND;TZID=America/New_York:20251106T120000
DTSTAMP:20260420T182322
CREATED:20251029T193207Z
LAST-MODIFIED:20251029T193207Z
UID:8252-1762426800-1762430400@www.autismtoolkit.org
SUMMARY:Sifting Through Your Parental Rights
DESCRIPTION:
URL:https://www.autismtoolkit.org/event/sifting-through-your-parental-rights-4/
CATEGORIES:Virtual
ATTACH;FMTTYPE=image/png:https://www.autismtoolkit.org/wp-content/uploads/2025/10/Screenshot-2025-10-03-092544.png
ORGANIZER;CN="Parent to Parent of Georgia":MAILTO:https://www.p2pga.org/contact-us
END:VEVENT
BEGIN:VEVENT
DTSTART;TZID=America/New_York:20251104T180000
DTEND;TZID=America/New_York:20251104T190000
DTSTAMP:20260420T182322
CREATED:20251029T192614Z
LAST-MODIFIED:20251029T192614Z
UID:8248-1762279200-1762282800@www.autismtoolkit.org
SUMMARY:Attendance-Why Does It Matter?
DESCRIPTION:
URL:https://www.autismtoolkit.org/event/attendance-why-does-it-matter/
CATEGORIES:Virtual
ATTACH;FMTTYPE=image/png:https://www.autismtoolkit.org/wp-content/uploads/2025/10/Screenshot-2025-10-03-092544.png
ORGANIZER;CN="Parent to Parent of Georgia":MAILTO:https://www.p2pga.org/contact-us
END:VEVENT
BEGIN:VEVENT
DTSTART;TZID=America/New_York:20251104T180000
DTEND;TZID=America/New_York:20251104T190000
DTSTAMP:20260420T182322
CREATED:20251029T192501Z
LAST-MODIFIED:20251029T192501Z
UID:8247-1762279200-1762282800@www.autismtoolkit.org
SUMMARY:Understanding the Adult Guardianship Process in Georgia
DESCRIPTION:
URL:https://www.autismtoolkit.org/event/understanding-the-adult-guardianship-process-in-georgia-2/
CATEGORIES:Virtual
ATTACH;FMTTYPE=image/png:https://www.autismtoolkit.org/wp-content/uploads/2025/10/Screenshot-2025-10-03-092544.png
ORGANIZER;CN="Parent to Parent of Georgia":MAILTO:https://www.p2pga.org/contact-us
END:VEVENT
BEGIN:VEVENT
DTSTART;TZID=America/New_York:20251104T150000
DTEND;TZID=America/New_York:20251104T160000
DTSTAMP:20260420T182322
CREATED:20251029T192741Z
LAST-MODIFIED:20251029T192741Z
UID:8249-1762268400-1762272000@www.autismtoolkit.org
SUMMARY:Georgia Medicaid and NOW/COMP
DESCRIPTION:
URL:https://www.autismtoolkit.org/event/georgia-medicaid-and-now-comp-2/
CATEGORIES:Virtual
ATTACH;FMTTYPE=image/png:https://www.autismtoolkit.org/wp-content/uploads/2025/10/Screenshot-2025-10-03-092544.png
ORGANIZER;CN="Parent to Parent of Georgia":MAILTO:https://www.p2pga.org/contact-us
END:VEVENT
BEGIN:VEVENT
DTSTART;TZID=America/New_York:20251104T110000
DTEND;TZID=America/New_York:20251104T123000
DTSTAMP:20260420T182322
CREATED:20251029T192341Z
LAST-MODIFIED:20251029T192341Z
UID:8246-1762254000-1762259400@www.autismtoolkit.org
SUMMARY:Georgia Medicaid Basics and an Overview of Home and Community-Based Services
DESCRIPTION:
URL:https://www.autismtoolkit.org/event/georgia-medicaid-basics-and-an-overview-of-home-and-community-based-services-2/
CATEGORIES:Virtual
ATTACH;FMTTYPE=image/png:https://www.autismtoolkit.org/wp-content/uploads/2025/10/Screenshot-2025-10-03-092544.png
ORGANIZER;CN="Parent to Parent of Georgia":MAILTO:https://www.p2pga.org/contact-us
END:VEVENT
BEGIN:VEVENT
DTSTART;TZID=America/New_York:20251103T130000
DTEND;TZID=America/New_York:20251103T143000
DTSTAMP:20260420T182322
CREATED:20251029T192155Z
LAST-MODIFIED:20251029T192155Z
UID:8245-1762174800-1762180200@www.autismtoolkit.org
SUMMARY:Crossing the Medical Bridge\, Transition to Adult Healthcare for Children & Youth with Special Healthcare Needs
DESCRIPTION:
URL:https://www.autismtoolkit.org/event/crossing-the-medical-bridge-transition-to-adult-healthcare-for-children-youth-with-special-healthcare-needs/
CATEGORIES:Virtual
ATTACH;FMTTYPE=image/png:https://www.autismtoolkit.org/wp-content/uploads/2025/10/Screenshot-2025-10-03-092544.png
ORGANIZER;CN="Parent to Parent of Georgia":MAILTO:https://www.p2pga.org/contact-us
END:VEVENT
BEGIN:VEVENT
DTSTART;TZID=America/New_York:20251028T180000
DTEND;TZID=America/New_York:20251028T190000
DTSTAMP:20260420T182322
CREATED:20251003T133800Z
LAST-MODIFIED:20251003T133800Z
UID:8025-1761674400-1761678000@www.autismtoolkit.org
SUMMARY:Transitioning to Adulthood: The Checklist
DESCRIPTION:
URL:https://www.autismtoolkit.org/event/transitioning-to-adulthood-the-checklist-3/
CATEGORIES:Virtual
ATTACH;FMTTYPE=image/png:https://www.autismtoolkit.org/wp-content/uploads/2025/10/Screenshot-2025-10-03-092544.png
ORGANIZER;CN="Parent to Parent of Georgia":MAILTO:https://www.p2pga.org/contact-us
END:VEVENT
BEGIN:VEVENT
DTSTART;TZID=America/New_York:20251014T110000
DTEND;TZID=America/New_York:20251014T120000
DTSTAMP:20260420T182322
CREATED:20251003T133626Z
LAST-MODIFIED:20251003T133626Z
UID:8024-1760439600-1760443200@www.autismtoolkit.org
SUMMARY:Movin' Up: Planning Your Child's Successful Transition at Age 3
DESCRIPTION:
URL:https://www.autismtoolkit.org/event/movin-up-planning-your-childs-successful-transition-at-age-3-2/
CATEGORIES:Virtual
ATTACH;FMTTYPE=image/png:https://www.autismtoolkit.org/wp-content/uploads/2025/10/Screenshot-2025-10-03-092544.png
ORGANIZER;CN="Parent to Parent of Georgia":MAILTO:https://www.p2pga.org/contact-us
END:VEVENT
BEGIN:VEVENT
DTSTART;TZID=America/New_York:20251014T110000
DTEND;TZID=America/New_York:20251014T120000
DTSTAMP:20260420T182322
CREATED:20251002T185302Z
LAST-MODIFIED:20251002T185302Z
UID:7957-1760439600-1760443200@www.autismtoolkit.org
SUMMARY:Movin' Up: Planning Your Child's Successful Transition at Age 3
DESCRIPTION:
URL:https://www.autismtoolkit.org/event/movin-up-planning-your-childs-successful-transition-at-age-3/
CATEGORIES:Virtual
ATTACH;FMTTYPE=image/png:https://www.autismtoolkit.org/wp-content/uploads/2025/05/16.png
ORGANIZER;CN="Parent to Parent of Georgia":MAILTO:https://www.p2pga.org/contact-us
END:VEVENT
BEGIN:VEVENT
DTSTART;TZID=America/New_York:20251009T190000
DTEND;TZID=America/New_York:20251009T200000
DTSTAMP:20260420T182322
CREATED:20251003T133446Z
LAST-MODIFIED:20251003T133446Z
UID:8023-1760036400-1760040000@www.autismtoolkit.org
SUMMARY:P2P-GA & IDA-GA Outreach for Parents: High-impact Early Literacy Routines at Home
DESCRIPTION:
URL:https://www.autismtoolkit.org/event/p2p-ga-ida-ga-outreach-for-parents-high-impact-early-literacy-routines-at-home/
CATEGORIES:Virtual
ATTACH;FMTTYPE=image/png:https://www.autismtoolkit.org/wp-content/uploads/2025/10/Screenshot-2025-10-03-092544.png
ORGANIZER;CN="Parent to Parent of Georgia":MAILTO:https://www.p2pga.org/contact-us
END:VEVENT
BEGIN:VEVENT
DTSTART;TZID=America/New_York:20251007T120000
DTEND;TZID=America/New_York:20251007T130000
DTSTAMP:20260420T182322
CREATED:20251003T132653Z
LAST-MODIFIED:20251003T132653Z
UID:8021-1759838400-1759842000@www.autismtoolkit.org
SUMMARY:Georgia Medicaid Basics and the Katie Beckett Deeming Waiver
DESCRIPTION:
URL:https://www.autismtoolkit.org/event/georgia-medicaid-basics-and-the-katie-beckett-deeming-waiver/
CATEGORIES:Virtual
ATTACH;FMTTYPE=image/png:https://www.autismtoolkit.org/wp-content/uploads/2025/10/Screenshot-2025-10-03-092544.png
ORGANIZER;CN="Parent to Parent of Georgia":MAILTO:https://www.p2pga.org/contact-us
END:VEVENT
BEGIN:VEVENT
DTSTART;TZID=America/New_York:20250922T100000
DTEND;TZID=America/New_York:20250922T120000
DTSTAMP:20260420T182322
CREATED:20250822T204303Z
LAST-MODIFIED:20250822T204303Z
UID:7739-1758535200-1758542400@www.autismtoolkit.org
SUMMARY:Peace\, Love\, and Harmony
DESCRIPTION:
URL:https://www.autismtoolkit.org/event/peace-love-and-harmony/
CATEGORIES:Virtual
ATTACH;FMTTYPE=image/png:https://www.autismtoolkit.org/wp-content/uploads/2025/05/16.png
ORGANIZER;CN="Parent to Parent of Georgia":MAILTO:https://www.p2pga.org/contact-us
END:VEVENT
BEGIN:VEVENT
DTSTART;TZID=America/New_York:20250916T183000
DTEND;TZID=America/New_York:20250916T203000
DTSTAMP:20260420T182322
CREATED:20250822T203918Z
LAST-MODIFIED:20250822T203918Z
UID:7738-1758047400-1758054600@www.autismtoolkit.org
SUMMARY:Georgia Medicaid and NOW/COMP
DESCRIPTION:
URL:https://www.autismtoolkit.org/event/georgia-medicaid-and-now-comp/2025-09-16/
CATEGORIES:Virtual
ATTACH;FMTTYPE=image/png:https://www.autismtoolkit.org/wp-content/uploads/2025/05/16.png
ORGANIZER;CN="Parent to Parent of Georgia":MAILTO:https://www.p2pga.org/contact-us
END:VEVENT
BEGIN:VEVENT
DTSTART;TZID=America/New_York:20250916T100000
DTEND;TZID=America/New_York:20250916T120000
DTSTAMP:20260420T182322
CREATED:20250822T204039Z
LAST-MODIFIED:20250822T204039Z
UID:7737-1758016800-1758024000@www.autismtoolkit.org
SUMMARY:What a Great IDEA!
DESCRIPTION:
URL:https://www.autismtoolkit.org/event/what-a-great-idea/
CATEGORIES:Virtual
ATTACH;FMTTYPE=image/png:https://www.autismtoolkit.org/wp-content/uploads/2025/05/16.png
ORGANIZER;CN="Parent to Parent of Georgia":MAILTO:https://www.p2pga.org/contact-us
END:VEVENT
BEGIN:VEVENT
DTSTART;TZID=America/New_York:20250909T183000
DTEND;TZID=America/New_York:20250909T203000
DTSTAMP:20260420T182322
CREATED:20250822T203918Z
LAST-MODIFIED:20250822T204114Z
UID:7736-1757442600-1757449800@www.autismtoolkit.org
SUMMARY:Georgia Medicaid and NOW/COMP
DESCRIPTION:
URL:https://www.autismtoolkit.org/event/georgia-medicaid-and-now-comp/2025-09-09/
CATEGORIES:Virtual
ATTACH;FMTTYPE=image/png:https://www.autismtoolkit.org/wp-content/uploads/2025/05/16.png
ORGANIZER;CN="Parent to Parent of Georgia":MAILTO:https://www.p2pga.org/contact-us
END:VEVENT
BEGIN:VEVENT
DTSTART;TZID=America/New_York:20250904T180000
DTEND;TZID=America/New_York:20250904T200000
DTSTAMP:20260420T182322
CREATED:20250822T203758Z
LAST-MODIFIED:20250822T203758Z
UID:7735-1757008800-1757016000@www.autismtoolkit.org
SUMMARY:I Can Do That!
DESCRIPTION:
URL:https://www.autismtoolkit.org/event/i-can-do-that/
LOCATION:Ike Owings Community Center\, 8830 Gurlry Rd\, Douglasville\, GA\, 30134\, United States
CATEGORIES:Region 4
ATTACH;FMTTYPE=image/png:https://www.autismtoolkit.org/wp-content/uploads/2025/05/16.png
ORGANIZER;CN="Parent to Parent of Georgia":MAILTO:https://www.p2pga.org/contact-us
END:VEVENT
END:VCALENDAR