BEGIN:VCALENDAR
VERSION:2.0
PRODID:-//Autism Toolkit of Georgia - ECPv6.15.20//NONSGML v1.0//EN
CALSCALE:GREGORIAN
METHOD:PUBLISH
X-ORIGINAL-URL:https://www.autismtoolkit.org
X-WR-CALDESC:Events for Autism Toolkit of Georgia
REFRESH-INTERVAL;VALUE=DURATION:PT1H
X-Robots-Tag:noindex
X-PUBLISHED-TTL:PT1H
BEGIN:VTIMEZONE
TZID:America/New_York
BEGIN:DAYLIGHT
TZOFFSETFROM:-0500
TZOFFSETTO:-0400
TZNAME:EDT
DTSTART:20230312T070000
END:DAYLIGHT
BEGIN:STANDARD
TZOFFSETFROM:-0400
TZOFFSETTO:-0500
TZNAME:EST
DTSTART:20231105T060000
END:STANDARD
BEGIN:DAYLIGHT
TZOFFSETFROM:-0500
TZOFFSETTO:-0400
TZNAME:EDT
DTSTART:20240310T070000
END:DAYLIGHT
BEGIN:STANDARD
TZOFFSETFROM:-0400
TZOFFSETTO:-0500
TZNAME:EST
DTSTART:20241103T060000
END:STANDARD
BEGIN:DAYLIGHT
TZOFFSETFROM:-0500
TZOFFSETTO:-0400
TZNAME:EDT
DTSTART:20250309T070000
END:DAYLIGHT
BEGIN:STANDARD
TZOFFSETFROM:-0400
TZOFFSETTO:-0500
TZNAME:EST
DTSTART:20251102T060000
END:STANDARD
BEGIN:DAYLIGHT
TZOFFSETFROM:-0500
TZOFFSETTO:-0400
TZNAME:EDT
DTSTART:20260308T070000
END:DAYLIGHT
BEGIN:STANDARD
TZOFFSETFROM:-0400
TZOFFSETTO:-0500
TZNAME:EST
DTSTART:20261101T060000
END:STANDARD
END:VTIMEZONE
BEGIN:VTIMEZONE
TZID:America/New_York
BEGIN:DAYLIGHT
TZOFFSETFROM:-0500
TZOFFSETTO:-0400
TZNAME:EDT
DTSTART:20230312T070000
END:DAYLIGHT
BEGIN:STANDARD
TZOFFSETFROM:-0400
TZOFFSETTO:-0500
TZNAME:EST
DTSTART:20231105T060000
END:STANDARD
BEGIN:DAYLIGHT
TZOFFSETFROM:-0500
TZOFFSETTO:-0400
TZNAME:EDT
DTSTART:20240310T070000
END:DAYLIGHT
BEGIN:STANDARD
TZOFFSETFROM:-0400
TZOFFSETTO:-0500
TZNAME:EST
DTSTART:20241103T060000
END:STANDARD
BEGIN:DAYLIGHT
TZOFFSETFROM:-0500
TZOFFSETTO:-0400
TZNAME:EDT
DTSTART:20250309T070000
END:DAYLIGHT
BEGIN:STANDARD
TZOFFSETFROM:-0400
TZOFFSETTO:-0500
TZNAME:EST
DTSTART:20251102T060000
END:STANDARD
END:VTIMEZONE
BEGIN:VEVENT
DTSTART;TZID=America/New_York:20251007T120000
DTEND;TZID=America/New_York:20251007T130000
DTSTAMP:20260420T214655
CREATED:20251003T132653Z
LAST-MODIFIED:20251003T132653Z
UID:8021-1759838400-1759842000@www.autismtoolkit.org
SUMMARY:Georgia Medicaid Basics and the Katie Beckett Deeming Waiver
DESCRIPTION:
URL:https://www.autismtoolkit.org/event/georgia-medicaid-basics-and-the-katie-beckett-deeming-waiver/
CATEGORIES:Virtual
ATTACH;FMTTYPE=image/png:https://www.autismtoolkit.org/wp-content/uploads/2025/10/Screenshot-2025-10-03-092544.png
ORGANIZER;CN="Parent to Parent of Georgia":MAILTO:https://www.p2pga.org/contact-us
END:VEVENT
BEGIN:VEVENT
DTSTART;TZID=America/New_York:20250922T100000
DTEND;TZID=America/New_York:20250922T120000
DTSTAMP:20260420T214655
CREATED:20250822T204303Z
LAST-MODIFIED:20250822T204303Z
UID:7739-1758535200-1758542400@www.autismtoolkit.org
SUMMARY:Peace\, Love\, and Harmony
DESCRIPTION:
URL:https://www.autismtoolkit.org/event/peace-love-and-harmony/
CATEGORIES:Virtual
ATTACH;FMTTYPE=image/png:https://www.autismtoolkit.org/wp-content/uploads/2025/05/16.png
ORGANIZER;CN="Parent to Parent of Georgia":MAILTO:https://www.p2pga.org/contact-us
END:VEVENT
BEGIN:VEVENT
DTSTART;TZID=America/New_York:20250916T183000
DTEND;TZID=America/New_York:20250916T203000
DTSTAMP:20260420T214655
CREATED:20250822T203918Z
LAST-MODIFIED:20250822T203918Z
UID:7738-1758047400-1758054600@www.autismtoolkit.org
SUMMARY:Georgia Medicaid and NOW/COMP
DESCRIPTION:
URL:https://www.autismtoolkit.org/event/georgia-medicaid-and-now-comp/2025-09-16/
CATEGORIES:Virtual
ATTACH;FMTTYPE=image/png:https://www.autismtoolkit.org/wp-content/uploads/2025/05/16.png
ORGANIZER;CN="Parent to Parent of Georgia":MAILTO:https://www.p2pga.org/contact-us
END:VEVENT
BEGIN:VEVENT
DTSTART;TZID=America/New_York:20250916T100000
DTEND;TZID=America/New_York:20250916T120000
DTSTAMP:20260420T214655
CREATED:20250822T204039Z
LAST-MODIFIED:20250822T204039Z
UID:7737-1758016800-1758024000@www.autismtoolkit.org
SUMMARY:What a Great IDEA!
DESCRIPTION:
URL:https://www.autismtoolkit.org/event/what-a-great-idea/
CATEGORIES:Virtual
ATTACH;FMTTYPE=image/png:https://www.autismtoolkit.org/wp-content/uploads/2025/05/16.png
ORGANIZER;CN="Parent to Parent of Georgia":MAILTO:https://www.p2pga.org/contact-us
END:VEVENT
BEGIN:VEVENT
DTSTART;TZID=America/New_York:20250909T183000
DTEND;TZID=America/New_York:20250909T203000
DTSTAMP:20260420T214655
CREATED:20250822T203918Z
LAST-MODIFIED:20250822T204114Z
UID:7736-1757442600-1757449800@www.autismtoolkit.org
SUMMARY:Georgia Medicaid and NOW/COMP
DESCRIPTION:
URL:https://www.autismtoolkit.org/event/georgia-medicaid-and-now-comp/2025-09-09/
CATEGORIES:Virtual
ATTACH;FMTTYPE=image/png:https://www.autismtoolkit.org/wp-content/uploads/2025/05/16.png
ORGANIZER;CN="Parent to Parent of Georgia":MAILTO:https://www.p2pga.org/contact-us
END:VEVENT
BEGIN:VEVENT
DTSTART;TZID=America/New_York:20250904T180000
DTEND;TZID=America/New_York:20250904T200000
DTSTAMP:20260420T214655
CREATED:20250822T203758Z
LAST-MODIFIED:20250822T203758Z
UID:7735-1757008800-1757016000@www.autismtoolkit.org
SUMMARY:I Can Do That!
DESCRIPTION:
URL:https://www.autismtoolkit.org/event/i-can-do-that/
LOCATION:Ike Owings Community Center\, 8830 Gurlry Rd\, Douglasville\, GA\, 30134\, United States
CATEGORIES:Region 4
ATTACH;FMTTYPE=image/png:https://www.autismtoolkit.org/wp-content/uploads/2025/05/16.png
ORGANIZER;CN="Parent to Parent of Georgia":MAILTO:https://www.p2pga.org/contact-us
END:VEVENT
BEGIN:VEVENT
DTSTART;TZID=America/New_York:20250828T190000
DTEND;TZID=America/New_York:20250828T210000
DTSTAMP:20260420T214655
CREATED:20250822T203532Z
LAST-MODIFIED:20250822T203532Z
UID:7733-1756407600-1756414800@www.autismtoolkit.org
SUMMARY:Miles of Advocacy In-Person Support Group Meeting
DESCRIPTION:
URL:https://www.autismtoolkit.org/event/miles-of-advocacy-in-person-support-group-meeting/
LOCATION:Starbucks – Kennesaw\, 1805 Dennis Kemp Lane NW\, Kennesaw\, GA\, 30152
CATEGORIES:Region 4
ATTACH;FMTTYPE=image/png:https://www.autismtoolkit.org/wp-content/uploads/2025/05/16.png
ORGANIZER;CN="Parent to Parent of Georgia":MAILTO:https://www.p2pga.org/contact-us
END:VEVENT
BEGIN:VEVENT
DTSTART;TZID=America/New_York:20250717T180000
DTEND;TZID=America/New_York:20250717T190000
DTSTAMP:20260420T214655
CREATED:20250702T193906Z
LAST-MODIFIED:20250702T193906Z
UID:7444-1752775200-1752778800@www.autismtoolkit.org
SUMMARY:!RECHARGE! - Parents of Special Needs Individuals Support Group through Connections for Special Parents (CSP)
DESCRIPTION:
URL:https://www.autismtoolkit.org/event/recharge-parents-of-special-needs-individuals-support-group-through-connections-for-special-parents-csp/
LOCATION:CSP Center\, 613 Cook Street\, Royston\, GA\, 30662
CATEGORIES:Region 3
ATTACH;FMTTYPE=image/png:https://www.autismtoolkit.org/wp-content/uploads/2025/05/16.png
ORGANIZER;CN="Parent to Parent of Georgia":MAILTO:https://www.p2pga.org/contact-us
END:VEVENT
BEGIN:VEVENT
DTSTART;TZID=America/New_York:20250702T123000
DTEND;TZID=America/New_York:20250702T133000
DTSTAMP:20260420T214655
CREATED:20250702T193509Z
LAST-MODIFIED:20250702T193509Z
UID:7443-1751459400-1751463000@www.autismtoolkit.org
SUMMARY:Georgia Medicaid Basics and Katie Beckett Deeming Waiver
DESCRIPTION:
URL:https://www.autismtoolkit.org/event/georgia-medicaid-basics-and-katie-beckett-deeming-waiver/
CATEGORIES:Virtual
ATTACH;FMTTYPE=image/png:https://www.autismtoolkit.org/wp-content/uploads/2025/05/16.png
ORGANIZER;CN="Parent to Parent of Georgia":MAILTO:https://www.p2pga.org/contact-us
END:VEVENT
BEGIN:VEVENT
DTSTART;TZID=America/New_York:20250611T110000
DTEND;TZID=America/New_York:20250611T123000
DTSTAMP:20260420T214655
CREATED:20250523T190533Z
LAST-MODIFIED:20250523T190533Z
UID:7153-1749639600-1749645000@www.autismtoolkit.org
SUMMARY:Securing the Future: The Power of Vision
DESCRIPTION:
URL:https://www.autismtoolkit.org/event/securing-the-future-the-power-of-vision/
CATEGORIES:Virtual
ATTACH;FMTTYPE=image/png:https://www.autismtoolkit.org/wp-content/uploads/2025/05/16.png
ORGANIZER;CN="Parent to Parent of Georgia":MAILTO:https://www.p2pga.org/contact-us
END:VEVENT
BEGIN:VEVENT
DTSTART;TZID=America/New_York:20250609T120000
DTEND;TZID=America/New_York:20250609T130000
DTSTAMP:20260420T214655
CREATED:20250523T190343Z
LAST-MODIFIED:20250523T190343Z
UID:7151-1749470400-1749474000@www.autismtoolkit.org
SUMMARY:Sifting Through Your Parental Rights
DESCRIPTION:
URL:https://www.autismtoolkit.org/event/sifting-through-your-parental-rights-3/
CATEGORIES:Virtual
ATTACH;FMTTYPE=image/png:https://www.autismtoolkit.org/wp-content/uploads/2025/05/EI_June_5th_PNG-1.png
ORGANIZER;CN="Parent to Parent of Georgia":MAILTO:https://www.p2pga.org/contact-us
END:VEVENT
BEGIN:VEVENT
DTSTART;TZID=America/New_York:20250606T130000
DTEND;TZID=America/New_York:20250606T143000
DTSTAMP:20260420T214655
CREATED:20250523T190019Z
LAST-MODIFIED:20250523T190019Z
UID:7150-1749214800-1749220200@www.autismtoolkit.org
SUMMARY:Navigating Manifestation Determination Reviews: Know your rights
DESCRIPTION:
URL:https://www.autismtoolkit.org/event/navigating-manifestation-determination-reviews-know-your-rights/
CATEGORIES:Virtual
ATTACH;FMTTYPE=image/png:https://www.autismtoolkit.org/wp-content/uploads/2025/05/16.png
ORGANIZER;CN="Parent to Parent of Georgia":MAILTO:https://www.p2pga.org/contact-us
END:VEVENT
BEGIN:VEVENT
DTSTART;TZID=America/New_York:20250605T120000
DTEND;TZID=America/New_York:20250605T130000
DTSTAMP:20260420T214655
CREATED:20250523T183442Z
LAST-MODIFIED:20250523T183442Z
UID:7148-1749124800-1749128400@www.autismtoolkit.org
SUMMARY:Early Intervention to Early Education
DESCRIPTION:
URL:https://www.autismtoolkit.org/event/early-intervention-to-early-education/
CATEGORIES:Virtual
ATTACH;FMTTYPE=image/png:https://www.autismtoolkit.org/wp-content/uploads/2025/05/EI_June_5th_PNG.png
ORGANIZER;CN="Parent to Parent of Georgia":MAILTO:https://www.p2pga.org/contact-us
END:VEVENT
BEGIN:VEVENT
DTSTART;TZID=America/New_York:20250513T110000
DTEND;TZID=America/New_York:20250513T120000
DTSTAMP:20260420T214655
CREATED:20250501T210918Z
LAST-MODIFIED:20250501T210918Z
UID:6912-1747134000-1747137600@www.autismtoolkit.org
SUMMARY:Understanding the Adult Guardianship Process in Georgia
DESCRIPTION:
URL:https://www.autismtoolkit.org/event/understanding-the-adult-guardianship-process-in-georgia/
CATEGORIES:Virtual
ATTACH;FMTTYPE=image/png:https://www.autismtoolkit.org/wp-content/uploads/2025/05/16.png
ORGANIZER;CN="Parent to Parent of Georgia":MAILTO:https://www.p2pga.org/contact-us
END:VEVENT
BEGIN:VEVENT
DTSTART;TZID=America/New_York:20250506T110000
DTEND;TZID=America/New_York:20250506T130000
DTSTAMP:20260420T214655
CREATED:20250501T210609Z
LAST-MODIFIED:20250501T210609Z
UID:6909-1746529200-1746536400@www.autismtoolkit.org
SUMMARY:Transitioning to Adult Healthcare
DESCRIPTION:
URL:https://www.autismtoolkit.org/event/transitioning-to-adult-healthcare-2/
LOCATION:East Central Health District\, 1916 North Leg Rd\, Building D\, Augusta\, Georgia\, 30909
CATEGORIES:Region 8
ATTACH;FMTTYPE=image/png:https://www.autismtoolkit.org/wp-content/uploads/2025/05/16.png
ORGANIZER;CN="Parent to Parent of Georgia":MAILTO:https://www.p2pga.org/contact-us
END:VEVENT
BEGIN:VEVENT
DTSTART;TZID=America/New_York:20250406T120000
DTEND;TZID=America/New_York:20250406T160000
DTSTAMP:20260420T214655
CREATED:20250314T183841Z
LAST-MODIFIED:20250314T183931Z
UID:6621-1743940800-1743955200@www.autismtoolkit.org
SUMMARY:Beyond the Spectrum: A Community Day of Support
DESCRIPTION:
URL:https://www.autismtoolkit.org/event/beyond-the-spectrum-a-community-day-of-support/
LOCATION:Ike Owings Community Center\, 8830 Gurlry Rd\, Douglasville\, GA\, 30134\, United States
CATEGORIES:Region 4
ATTACH;FMTTYPE=image/jpeg:https://www.autismtoolkit.org/wp-content/uploads/2025/03/483522194_122193018356254219_6225493867657497781_n.jpg
ORGANIZER;CN="Parent to Parent of Georgia":MAILTO:https://www.p2pga.org/contact-us
END:VEVENT
BEGIN:VEVENT
DTSTART;TZID=America/New_York:20250320T110000
DTEND;TZID=America/New_York:20250320T123000
DTSTAMP:20260420T214655
CREATED:20250312T151531Z
LAST-MODIFIED:20250312T151531Z
UID:6609-1742468400-1742473800@www.autismtoolkit.org
SUMMARY:Katie Beckett Deeming Waiver COMMON REASONS FOR DENIAL & THE RENEWAL PROCESS
DESCRIPTION:
URL:https://www.autismtoolkit.org/event/katie-beckett-deeming-waiver-common-reasons-for-denial-the-renewal-process/
LOCATION:Virtual
CATEGORIES:Virtual
ATTACH;FMTTYPE=image/jpeg:https://www.autismtoolkit.org/wp-content/uploads/2025/03/481054331_1161770609288779_414147705899994635_n.jpg
ORGANIZER;CN="Parent to Parent of Georgia":MAILTO:https://www.p2pga.org/contact-us
END:VEVENT
BEGIN:VEVENT
DTSTART;TZID=America/New_York:20250315T110000
DTEND;TZID=America/New_York:20250315T120000
DTSTAMP:20260420T214655
CREATED:20250311T173314Z
LAST-MODIFIED:20250311T173314Z
UID:6604-1742036400-1742040000@www.autismtoolkit.org
SUMMARY:Telic Empowerment Virtual Parent Support Group Meeting
DESCRIPTION:
URL:https://www.autismtoolkit.org/event/telic-empowerment-virtual-parent-support-group-meeting/
LOCATION:Virtual
CATEGORIES:Virtual
ATTACH;FMTTYPE=image/png:https://www.autismtoolkit.org/wp-content/uploads/2025/03/3-15-25_Meeting_Flyer__1_.png
ORGANIZER;CN="Parent to Parent of Georgia":MAILTO:https://www.p2pga.org/contact-us
END:VEVENT
BEGIN:VEVENT
DTSTART;TZID=America/New_York:20250222T100000
DTEND;TZID=America/New_York:20250222T120000
DTSTAMP:20260420T214655
CREATED:20250220T185058Z
LAST-MODIFIED:20250220T185058Z
UID:6375-1740218400-1740225600@www.autismtoolkit.org
SUMMARY:Transitioning to Adult Healthcare
DESCRIPTION:
URL:https://www.autismtoolkit.org/event/transitioning-to-adult-healthcare/
LOCATION:Burnt Hickory Baptist Church\, 5145 Due W Rd NW\, Powder Springs\, GA\, 30127\, United States
CATEGORIES:Region 4
ATTACH;FMTTYPE=image/webp:https://www.autismtoolkit.org/wp-content/uploads/2025/02/Burnt-Hickory-Baptist-Church-Hogan-Construction.webp
ORGANIZER;CN="Parent to Parent of Georgia":MAILTO:https://www.p2pga.org/contact-us
END:VEVENT
BEGIN:VEVENT
DTSTART;TZID=America/New_York:20241217T090000
DTEND;TZID=America/New_York:20241217T100000
DTSTAMP:20260420T214655
CREATED:20241206T194449Z
LAST-MODIFIED:20241206T194449Z
UID:5661-1734426000-1734429600@www.autismtoolkit.org
SUMMARY:Sifting Through Your Parental Rights
DESCRIPTION:
URL:https://www.autismtoolkit.org/event/sifting-through-your-parental-rights-2/
LOCATION:Virtual
CATEGORIES:Virtual
ATTACH;FMTTYPE=image/jpeg:https://www.autismtoolkit.org/wp-content/uploads/2024/12/2d634c42-d373-4ce0-823a-50850c7dcc5b.jpg
ORGANIZER;CN="Parent to Parent of Georgia":MAILTO:https://www.p2pga.org/contact-us
END:VEVENT
BEGIN:VEVENT
DTSTART;TZID=America/New_York:20241216T173000
DTEND;TZID=America/New_York:20241216T193000
DTSTAMP:20260420T214655
CREATED:20241206T193759Z
LAST-MODIFIED:20241206T193759Z
UID:5657-1734370200-1734377400@www.autismtoolkit.org
SUMMARY:Bloom: Building Love On Opportunities & Mission
DESCRIPTION:
URL:https://www.autismtoolkit.org/event/bloom-building-love-on-opportunities-mission/2024-12-16/
LOCATION:Once Upon a Playhouse\, 323 N Hamilton St.\, Dalton\, GA\, 30720\, United States
CATEGORIES:Region 1
ATTACH;FMTTYPE=image/jpeg:https://www.autismtoolkit.org/wp-content/uploads/2024/12/BLOOM_meeting_Flyer-English_2.jpg
ORGANIZER;CN="Parent to Parent of Georgia":MAILTO:https://www.p2pga.org/contact-us
END:VEVENT
BEGIN:VEVENT
DTSTART;TZID=America/New_York:20241211T110000
DTEND;TZID=America/New_York:20241211T120000
DTSTAMP:20260420T214655
CREATED:20241206T194232Z
LAST-MODIFIED:20241206T194232Z
UID:5660-1733914800-1733918400@www.autismtoolkit.org
SUMMARY:Now/Comp Waiver(s): What you need to know!
DESCRIPTION:
URL:https://www.autismtoolkit.org/event/now-comp-waivers-what-you-need-to-know-2/
LOCATION:Virtual
CATEGORIES:Virtual
ATTACH;FMTTYPE=image/jpeg:https://www.autismtoolkit.org/wp-content/uploads/2024/12/2d634c42-d373-4ce0-823a-50850c7dcc5b.jpg
ORGANIZER;CN="Parent to Parent of Georgia":MAILTO:https://www.p2pga.org/contact-us
END:VEVENT
BEGIN:VEVENT
DTSTART;TZID=America/New_York:20241211T110000
DTEND;TZID=America/New_York:20241211T120000
DTSTAMP:20260420T214655
CREATED:20241122T204428Z
LAST-MODIFIED:20241122T204428Z
UID:5432-1733914800-1733918400@www.autismtoolkit.org
SUMMARY:Now/Comp Waiver(s): What you need to know!
DESCRIPTION:
URL:https://www.autismtoolkit.org/event/now-comp-waivers-what-you-need-to-know/
CATEGORIES:Virtual
ATTACH;FMTTYPE=image/png:https://www.autismtoolkit.org/wp-content/uploads/2024/09/3.png
ORGANIZER;CN="Parent to Parent of Georgia":MAILTO:https://www.p2pga.org/contact-us
END:VEVENT
BEGIN:VEVENT
DTSTART;TZID=America/New_York:20241210T180000
DTEND;TZID=America/New_York:20241210T190000
DTSTAMP:20260420T214655
CREATED:20241206T194047Z
LAST-MODIFIED:20241206T194047Z
UID:5658-1733853600-1733857200@www.autismtoolkit.org
SUMMARY:What a Great IDEA! A Brief Overview of Special Education for Parents and Families
DESCRIPTION:
URL:https://www.autismtoolkit.org/event/what-a-great-idea-a-brief-overview-of-special-education-for-parents-and-families/
LOCATION:Virtual
CATEGORIES:Virtual
ATTACH;FMTTYPE=image/jpeg:https://www.autismtoolkit.org/wp-content/uploads/2024/12/2d634c42-d373-4ce0-823a-50850c7dcc5b.jpg
ORGANIZER;CN="Parent to Parent of Georgia":MAILTO:https://www.p2pga.org/contact-us
END:VEVENT
BEGIN:VEVENT
DTSTART;TZID=America/New_York:20241209T173000
DTEND;TZID=America/New_York:20241209T193000
DTSTAMP:20260420T214655
CREATED:20241206T193759Z
LAST-MODIFIED:20241206T193759Z
UID:5654-1733765400-1733772600@www.autismtoolkit.org
SUMMARY:Bloom: Building Love On Opportunities & Mission
DESCRIPTION:
URL:https://www.autismtoolkit.org/event/bloom-building-love-on-opportunities-mission/2024-12-09/
LOCATION:Once Upon a Playhouse\, 323 N Hamilton St.\, Dalton\, GA\, 30720\, United States
CATEGORIES:Region 1
ATTACH;FMTTYPE=image/jpeg:https://www.autismtoolkit.org/wp-content/uploads/2024/12/BLOOM_meeting_Flyer-English_2.jpg
ORGANIZER;CN="Parent to Parent of Georgia":MAILTO:https://www.p2pga.org/contact-us
END:VEVENT
BEGIN:VEVENT
DTSTART;TZID=America/New_York:20241119T130000
DTEND;TZID=America/New_York:20241119T140000
DTSTAMP:20260420T214655
CREATED:20241111T202614Z
LAST-MODIFIED:20241111T202614Z
UID:5373-1732021200-1732024800@www.autismtoolkit.org
SUMMARY:Transitioning to Adulthood: The Checklist
DESCRIPTION:
URL:https://www.autismtoolkit.org/event/transitioning-to-adulthood-the-checklist-2/
CATEGORIES:Virtual
ATTACH;FMTTYPE=image/png:https://www.autismtoolkit.org/wp-content/uploads/2024/09/3.png
ORGANIZER;CN="Parent to Parent of Georgia":MAILTO:https://www.p2pga.org/contact-us
END:VEVENT
BEGIN:VEVENT
DTSTART;TZID=America/New_York:20241118T110000
DTEND;TZID=America/New_York:20241118T120000
DTSTAMP:20260420T214655
CREATED:20241111T202454Z
LAST-MODIFIED:20241111T202454Z
UID:5372-1731927600-1731931200@www.autismtoolkit.org
SUMMARY:Georgia Medicaid Basics and an Overview of Home and Community-Based Services
DESCRIPTION:
URL:https://www.autismtoolkit.org/event/georgia-medicaid-basics-and-an-overview-of-home-and-community-based-services/
CATEGORIES:Virtual
ATTACH;FMTTYPE=image/png:https://www.autismtoolkit.org/wp-content/uploads/2024/09/3.png
ORGANIZER;CN="Parent to Parent of Georgia":MAILTO:https://www.p2pga.org/contact-us
END:VEVENT
BEGIN:VEVENT
DTSTART;TZID=America/New_York:20241116T120000
DTEND;TZID=America/New_York:20241116T140000
DTSTAMP:20260420T214655
CREATED:20241111T202339Z
LAST-MODIFIED:20241111T202339Z
UID:5369-1731758400-1731765600@www.autismtoolkit.org
SUMMARY:High-Five Society Invites you to Gobble 'til you Wobble
DESCRIPTION:
URL:https://www.autismtoolkit.org/event/high-five-society-invites-you-to-gobble-til-you-wobble/
LOCATION:144 Essex Street\, 144 Essex Street\, Cedartown\, GA\, 30125
CATEGORIES:Region 1
ATTACH;FMTTYPE=image/png:https://www.autismtoolkit.org/wp-content/uploads/2024/11/11-16-24_Meeting_Flyer.png
ORGANIZER;CN="Parent to Parent of Georgia":MAILTO:https://www.p2pga.org/contact-us
END:VEVENT
BEGIN:VEVENT
DTSTART;TZID=America/New_York:20241116T110000
DTEND;TZID=America/New_York:20241116T123000
DTSTAMP:20260420T214655
CREATED:20241111T202030Z
LAST-MODIFIED:20241111T202030Z
UID:5367-1731754800-1731760200@www.autismtoolkit.org
SUMMARY:Telic Empowerment Virtual Parent Group Meeting (Virtual)
DESCRIPTION:
URL:https://www.autismtoolkit.org/event/telic-empowerment-virtual-parent-group-meeting-virtual/
CATEGORIES:Virtual
ATTACH;FMTTYPE=image/png:https://www.autismtoolkit.org/wp-content/uploads/2024/11/unnamed.png
ORGANIZER;CN="Parent to Parent of Georgia":MAILTO:https://www.p2pga.org/contact-us
END:VEVENT
BEGIN:VEVENT
DTSTART;TZID=America/New_York:20241024T170000
DTEND;TZID=America/New_York:20241024T180000
DTSTAMP:20260420T214655
CREATED:20240926T193712Z
LAST-MODIFIED:20240926T193712Z
UID:5199-1729789200-1729792800@www.autismtoolkit.org
SUMMARY:Transitioning to Adulthood: The Checklist
DESCRIPTION:
URL:https://www.autismtoolkit.org/event/transitioning-to-adulthood-the-checklist/
LOCATION:Empower College and Career Center\, 1660 Winder Hwy\, Jefferson\, GA\, 30549
CATEGORIES:Region 8
ATTACH;FMTTYPE=image/png:https://www.autismtoolkit.org/wp-content/uploads/2024/09/3.png
ORGANIZER;CN="Parent to Parent of Georgia":MAILTO:https://www.p2pga.org/contact-us
END:VEVENT
END:VCALENDAR