BEGIN:VCALENDAR
VERSION:2.0
PRODID:-//Autism Toolkit of Georgia - ECPv6.15.20//NONSGML v1.0//EN
CALSCALE:GREGORIAN
METHOD:PUBLISH
X-WR-CALNAME:Autism Toolkit of Georgia
X-ORIGINAL-URL:https://www.autismtoolkit.org
X-WR-CALDESC:Events for Autism Toolkit of Georgia
REFRESH-INTERVAL;VALUE=DURATION:PT1H
X-Robots-Tag:noindex
X-PUBLISHED-TTL:PT1H
BEGIN:VTIMEZONE
TZID:America/New_York
BEGIN:DAYLIGHT
TZOFFSETFROM:-0500
TZOFFSETTO:-0400
TZNAME:EDT
DTSTART:20230312T070000
END:DAYLIGHT
BEGIN:STANDARD
TZOFFSETFROM:-0400
TZOFFSETTO:-0500
TZNAME:EST
DTSTART:20231105T060000
END:STANDARD
BEGIN:DAYLIGHT
TZOFFSETFROM:-0500
TZOFFSETTO:-0400
TZNAME:EDT
DTSTART:20240310T070000
END:DAYLIGHT
BEGIN:STANDARD
TZOFFSETFROM:-0400
TZOFFSETTO:-0500
TZNAME:EST
DTSTART:20241103T060000
END:STANDARD
BEGIN:DAYLIGHT
TZOFFSETFROM:-0500
TZOFFSETTO:-0400
TZNAME:EDT
DTSTART:20250309T070000
END:DAYLIGHT
BEGIN:STANDARD
TZOFFSETFROM:-0400
TZOFFSETTO:-0500
TZNAME:EST
DTSTART:20251102T060000
END:STANDARD
BEGIN:DAYLIGHT
TZOFFSETFROM:-0500
TZOFFSETTO:-0400
TZNAME:EDT
DTSTART:20260308T070000
END:DAYLIGHT
BEGIN:STANDARD
TZOFFSETFROM:-0400
TZOFFSETTO:-0500
TZNAME:EST
DTSTART:20261101T060000
END:STANDARD
END:VTIMEZONE
BEGIN:VEVENT
DTSTART;TZID=America/New_York:20250119T090000
DTEND;TZID=America/New_York:20250119T100000
DTSTAMP:20260421T032912
CREATED:20241220T144620Z
LAST-MODIFIED:20241220T144620Z
UID:6159-1737277200-1737280800@www.autismtoolkit.org
SUMMARY:Sensory Friendly Mornings
DESCRIPTION:
URL:https://www.autismtoolkit.org/event/sensory-friendly-mornings/2025-01-19/
LOCATION:Tellus Science Museum\, 100 Tellus Dr\, Carterville\, GA\, 30120
CATEGORIES:Region 1
ATTACH;FMTTYPE=image/png:https://www.autismtoolkit.org/wp-content/uploads/2024/12/Sensory-Friendly-Mornings.png
END:VEVENT
BEGIN:VEVENT
DTSTART;TZID=America/New_York:20250118T090000
DTEND;TZID=America/New_York:20250118T100000
DTSTAMP:20260421T032912
CREATED:20241220T144620Z
LAST-MODIFIED:20241220T144620Z
UID:6157-1737190800-1737194400@www.autismtoolkit.org
SUMMARY:Sensory Friendly Mornings
DESCRIPTION:
URL:https://www.autismtoolkit.org/event/sensory-friendly-mornings/2025-01-18/
LOCATION:Tellus Science Museum\, 100 Tellus Dr\, Carterville\, GA\, 30120
CATEGORIES:Region 1
ATTACH;FMTTYPE=image/png:https://www.autismtoolkit.org/wp-content/uploads/2024/12/Sensory-Friendly-Mornings.png
END:VEVENT
BEGIN:VEVENT
DTSTART;TZID=America/New_York:20241218T080000
DTEND;TZID=America/New_York:20241218T170000
DTSTAMP:20260421T032912
CREATED:20241206T202008Z
LAST-MODIFIED:20241206T202008Z
UID:5675-1734508800-1734541200@www.autismtoolkit.org
SUMMARY:Lunch + Learn: Earl & Starla Go to Space
DESCRIPTION:
URL:https://www.autismtoolkit.org/event/lunch-learn-earl-starla-go-to-space/
LOCATION:Tellus Science Museum\, 100 Tellus Dr\, Carterville\, GA\, 30120
CATEGORIES:Region 1
ATTACH;FMTTYPE=image/png:https://www.autismtoolkit.org/wp-content/uploads/2024/12/Earl-and-Starla-Button.png
END:VEVENT
BEGIN:VEVENT
DTSTART;TZID=America/New_York:20241215T100000
DTEND;TZID=America/New_York:20241215T160000
DTSTAMP:20260421T032912
CREATED:20241206T201729Z
LAST-MODIFIED:20241206T201729Z
UID:5674-1734256800-1734278400@www.autismtoolkit.org
SUMMARY:Holiday PJ Party + Festival of Trains
DESCRIPTION:
URL:https://www.autismtoolkit.org/event/holiday-pj-party-festival-of-trains/2024-12-15/
LOCATION:Tellus Science Museum\, 100 Tellus Dr\, Carterville\, GA\, 30120
CATEGORIES:Region 1
ATTACH;FMTTYPE=image/png:https://www.autismtoolkit.org/wp-content/uploads/2024/12/Holiday-PJ-Party-2024-Button.png
END:VEVENT
BEGIN:VEVENT
DTSTART;TZID=America/New_York:20241214T100000
DTEND;TZID=America/New_York:20241214T160000
DTSTAMP:20260421T032912
CREATED:20241206T201729Z
LAST-MODIFIED:20241206T201729Z
UID:5672-1734170400-1734192000@www.autismtoolkit.org
SUMMARY:Holiday PJ Party + Festival of Trains
DESCRIPTION:
URL:https://www.autismtoolkit.org/event/holiday-pj-party-festival-of-trains/2024-12-14/
LOCATION:Tellus Science Museum\, 100 Tellus Dr\, Carterville\, GA\, 30120
CATEGORIES:Region 1
ATTACH;FMTTYPE=image/png:https://www.autismtoolkit.org/wp-content/uploads/2024/12/Holiday-PJ-Party-2024-Button.png
END:VEVENT
END:VCALENDAR