BEGIN:VCALENDAR
VERSION:2.0
PRODID:-//Autism Toolkit of Georgia - ECPv6.15.20//NONSGML v1.0//EN
CALSCALE:GREGORIAN
METHOD:PUBLISH
X-WR-CALNAME:Autism Toolkit of Georgia
X-ORIGINAL-URL:https://www.autismtoolkit.org
X-WR-CALDESC:Events for Autism Toolkit of Georgia
REFRESH-INTERVAL;VALUE=DURATION:PT1H
X-Robots-Tag:noindex
X-PUBLISHED-TTL:PT1H
BEGIN:VTIMEZONE
TZID:America/New_York
BEGIN:DAYLIGHT
TZOFFSETFROM:-0500
TZOFFSETTO:-0400
TZNAME:EDT
DTSTART:20240310T070000
END:DAYLIGHT
BEGIN:STANDARD
TZOFFSETFROM:-0400
TZOFFSETTO:-0500
TZNAME:EST
DTSTART:20241103T060000
END:STANDARD
BEGIN:DAYLIGHT
TZOFFSETFROM:-0500
TZOFFSETTO:-0400
TZNAME:EDT
DTSTART:20250309T070000
END:DAYLIGHT
BEGIN:STANDARD
TZOFFSETFROM:-0400
TZOFFSETTO:-0500
TZNAME:EST
DTSTART:20251102T060000
END:STANDARD
BEGIN:DAYLIGHT
TZOFFSETFROM:-0500
TZOFFSETTO:-0400
TZNAME:EDT
DTSTART:20260308T070000
END:DAYLIGHT
BEGIN:STANDARD
TZOFFSETFROM:-0400
TZOFFSETTO:-0500
TZNAME:EST
DTSTART:20261101T060000
END:STANDARD
END:VTIMEZONE
BEGIN:VEVENT
DTSTART;TZID=America/New_York:20251221T133000
DTEND;TZID=America/New_York:20251221T160000
DTSTAMP:20260424T053552
CREATED:20251203T171106Z
LAST-MODIFIED:20251203T171106Z
UID:8470-1766323800-1766332800@www.autismtoolkit.org
SUMMARY:Accessible Pickleball Sundays
DESCRIPTION:
URL:https://www.autismtoolkit.org/event/accessible-pickleball-sundays/2025-12-21/
LOCATION:Riverview Park Activities Center\, 100 Georgia Ave\, North Augusta\, SC\, 29841
CATEGORIES:South Carolina
ATTACH;FMTTYPE=image/jpeg:https://www.autismtoolkit.org/wp-content/uploads/2025/12/Events-TV-Slideshow-4-289x300-1.jpg
END:VEVENT
BEGIN:VEVENT
DTSTART;TZID=America/New_York:20251214T133000
DTEND;TZID=America/New_York:20251214T160000
DTSTAMP:20260424T053552
CREATED:20251203T171106Z
LAST-MODIFIED:20251203T171106Z
UID:8469-1765719000-1765728000@www.autismtoolkit.org
SUMMARY:Accessible Pickleball Sundays
DESCRIPTION:
URL:https://www.autismtoolkit.org/event/accessible-pickleball-sundays/2025-12-14/
LOCATION:Riverview Park Activities Center\, 100 Georgia Ave\, North Augusta\, SC\, 29841
CATEGORIES:South Carolina
ATTACH;FMTTYPE=image/jpeg:https://www.autismtoolkit.org/wp-content/uploads/2025/12/Events-TV-Slideshow-4-289x300-1.jpg
END:VEVENT
BEGIN:VEVENT
DTSTART;TZID=America/New_York:20251207T133000
DTEND;TZID=America/New_York:20251207T160000
DTSTAMP:20260424T053552
CREATED:20251203T171106Z
LAST-MODIFIED:20251203T171106Z
UID:8466-1765114200-1765123200@www.autismtoolkit.org
SUMMARY:Accessible Pickleball Sundays
DESCRIPTION:
URL:https://www.autismtoolkit.org/event/accessible-pickleball-sundays/2025-12-07/
LOCATION:Riverview Park Activities Center\, 100 Georgia Ave\, North Augusta\, SC\, 29841
CATEGORIES:South Carolina
ATTACH;FMTTYPE=image/jpeg:https://www.autismtoolkit.org/wp-content/uploads/2025/12/Events-TV-Slideshow-4-289x300-1.jpg
END:VEVENT
END:VCALENDAR